BEGIN:VCALENDAR
VERSION:2.0
PRODID:-//ChamberMaster//Event Calendar 2.0//EN
METHOD:PUBLISH
X-PUBLISHED-TTL:P3D
REFRESH-INTERVAL:P3D
CALSCALE:GREGORIAN
BEGIN:VEVENT
DTSTART;VALUE=DATE:20210430
DTEND;VALUE=DATE:20210815
TRANSP:TRANSPARENT
X-MICROSOFT-CDO-ALLDAYEVENT:TRUE
SUMMARY:10 Minute Play Festival
DESCRIPTION:Kankakee Valley Theatre Association is pleased to announce the revival of our non-equity 10-Minute Play Festival with the wonderful addition of a youth division. We are in search of some creative new entries this year in both the adult and youth divisions! Submissions is an easy process via email (kvtaplayfestivals@gmail.com) and there is no entry fee. The 1st\, 2nd\, and 3rd place adult division scripts will receive a monetary award and be produced. Award amounts are $100 for 1st\, $50 for 2nd\, and $25 for 3rd in the adult division. There will also be the opportunity for 3-4 additional adult division submissions to have a staged reading. There will be an Audience Choice Award chosen from the staged readings and that winner will receive $25 as well! The youth division is for talented 7th-12th grade students. We will offer monetary awards for the 1st and 2nd place winners in the youth division. The productions and readings will take place on the weekend of August 13-14\, 2021 at the KVTA Studios. Entries must be received by April 30\, 2021. Winners will be notified by May 21\,2021.
X-ALT-DESC;FMTTYPE=text/html:Kankakee Valley Theatre Association is pleased to announce the revival of our non-equity 10-Minute Play Festival with the wonderful addition of a youth division. We are in search of some creative new entries this year in both the adult and youth divisions! Submissions is an easy process via email (kvtaplayfestivals@gmail.com) and there is no entry fee. The 1st\, 2nd\, and 3rd place adult division scripts will receive a monetary award and be produced. Award amounts are $100 for 1st\, $50 for 2nd\, and $25 for 3rd in the adult division. There will also be the opportunity for 3-4 additional adult division submissions to have a staged reading. There will be an Audience Choice Award chosen from the staged readings and that winner will receive $25 as well! The youth division is for talented 7th-12th grade students. We will offer monetary awards for the 1st and 2nd place winners in the youth division. The productions and readings will take place on the weekend of August 13-14\, 2021 at the KVTA Studios. Entries must be received by April 30\, 2021. Winners will be notified by May 21\,2021.
LOCATION:Kankakee Valley Theatre Association 1 Stuart Drive Kankakee\, IL 60901
UID:e.771.3635
SEQUENCE:3
DTSTAMP:20260419T182306Z
URL:https://business.kankakeecountychamber.com/events/details/10-minute-play-festival-3635
END:VEVENT

END:VCALENDAR
