BEGIN:VCALENDAR
VERSION:2.0
PRODID:-//ChamberMaster//Event Calendar 2.0//EN
METHOD:PUBLISH
X-PUBLISHED-TTL:P3D
REFRESH-INTERVAL:P3D
CALSCALE:GREGORIAN
BEGIN:VEVENT
DTSTART:20210722T160000Z
DTEND:20210722T230000Z
X-MICROSOFT-CDO-ALLDAYEVENT:FALSE
SUMMARY:16TH Annual Rotary Golf Classic
DESCRIPTION:Benefiting Bradley-Bourbonnais Rotary Foundation. Oak Springs Golf Course\, St. Anne. $90 per golfer\, $350.00 foursome. Hole in One Challenge\, Putting Contest\, Prizes for men\, women longest drive and closes to the pin. More info at BBRotary.org. Thank you.
X-ALT-DESC;FMTTYPE=text/html:Benefiting Bradley-Bourbonnais Rotary Foundation. Oak Springs Golf Course\, St. Anne. $90 per golfer\, $350.00 foursome. Hole in One Challenge\, Putting Contest\, Prizes for men\, women longest drive and closes to the pin. More info at BBRotary.org. Thank you.
LOCATION:Oak Springs Golf Course\, St. Anne.
UID:e.771.3673
SEQUENCE:3
DTSTAMP:20260419T194838Z
URL:https://business.kankakeecountychamber.com/events/details/16th-annual-rotary-golf-classic-3673
END:VEVENT

END:VCALENDAR
