BEGIN:VCALENDAR
VERSION:2.0
PRODID:-//ChamberMaster//Event Calendar 2.0//EN
METHOD:PUBLISH
X-PUBLISHED-TTL:P3D
REFRESH-INTERVAL:P3D
CALSCALE:GREGORIAN
BEGIN:VEVENT
DTSTART;VALUE=DATE:20200101
DTEND;VALUE=DATE:20200102
TRANSP:TRANSPARENT
X-MICROSOFT-CDO-ALLDAYEVENT:TRUE
SUMMARY:2020 Membership Tiers
DESCRIPTION:Kankakee County Chamber of Commerce\n\n2020 Membership Benefits
X-ALT-DESC;FMTTYPE=text/html:Kankakee County Chamber of Commerce<br />\n<strong><a href="https://chambermaster.blob.core.windows.net/userfiles/UserFiles/chambers/771/File/MembershipBenefits2020.pdf">2020 Membership Benefits</a></strong>
LOCATION:
UID:e.771.3351
SEQUENCE:3
DTSTAMP:20260422T220235Z
URL:https://business.kankakeecountychamber.com/events/details/2020-membership-tiers-3351
END:VEVENT

END:VCALENDAR
