BEGIN:VCALENDAR
VERSION:2.0
PRODID:-//ChamberMaster//Event Calendar 2.0//EN
METHOD:PUBLISH
X-PUBLISHED-TTL:P3D
REFRESH-INTERVAL:P3D
CALSCALE:GREGORIAN
BEGIN:VEVENT
DTSTART:20200116T223000Z
DTEND:20200117T000000Z
X-MICROSOFT-CDO-ALLDAYEVENT:FALSE
SUMMARY:2020 New Bill Rountable with Rep. Parkhurst
DESCRIPTION:Rep. Parkhurst will be available to listen to constituent ideas to introduce new legislation benefiting the 79th District and Illinois for the spring legislative session. For constituents who wish to submit their ideas\, but are unable to attend\, a submission box is available at www.repparkhurst.com.
X-ALT-DESC;FMTTYPE=text/html:<span style="color: rgb(29\, 33\, 41)\; font-family: Helvetica\, Arial\, sans-serif\; font-size: 14px\; white-space: pre-wrap\;">Rep. Parkhurst will be available to listen to constituent ideas to introduce new legislation benefiting the 79th District and Illinois for the spring legislative session. For constituents who wish to submit their ideas\, but are unable to attend\, a submission box is available at </span><a data-lynx-mode="hover" data-lynx-uri="https://l.facebook.com/l.php?u=http%3A%2F%2Fwww.repparkhurst.com%2F%3Ffbclid%3DIwAR1Q9tMA0SoRhCXvhGtJjEB5wrJLo7f8sdYu_ZE7liYhoZl5ySpPF6KohJM&amp\;h=AT3TncPtUEWi98oq7d5KH-TgULPDOUIxouQaXpq0QpKWllwY_IZie3Vg_Fr87A84-d03A1iiPM8YLYcs7v-gndPDyOobCzzH5C5zHb09_52UYxrBcXSclmKyzUhmu28sww" href="http://www.repparkhurst.com/?fbclid=IwAR1Q9tMA0SoRhCXvhGtJjEB5wrJLo7f8sdYu_ZE7liYhoZl5ySpPF6KohJM" rel="nofollow noopener" style="color: rgb(56\, 88\, 152)\; cursor: pointer\; text-decoration-line: none\; font-family: Helvetica\, Arial\, sans-serif\; font-size: 14px\; white-space: pre-wrap\;" target="_blank">www.repparkhurst.com.</a>
LOCATION:370 E Court Street Kankakee\, IL 60901
UID:e.771.3084
SEQUENCE:3
DTSTAMP:20260422T205507Z
URL:https://business.kankakeecountychamber.com/events/details/2020-new-bill-rountable-with-rep-parkhurst-3084
END:VEVENT

END:VCALENDAR
