BEGIN:VCALENDAR
VERSION:2.0
PRODID:-//ChamberMaster//Event Calendar 2.0//EN
METHOD:PUBLISH
X-PUBLISHED-TTL:P3D
REFRESH-INTERVAL:P3D
CALSCALE:GREGORIAN
BEGIN:VEVENT
DTSTART:20210716T133000Z
DTEND:20210716T230000Z
X-MICROSOFT-CDO-ALLDAYEVENT:FALSE
SUMMARY:2021 Boiler Golf Classic
DESCRIPTION:The BBCHS Academic Foundation and Athletic Department is\n\nproud to host the 17th Annual Boiler Golf Classic! We would\n\nlove to have your support as a participant in this golf outing\,\n\nand encourage you to assemble a foursome to join the fun!\n\nThe Boiler Golf Classic will be held on July 16\, 2021 at the\n\nKankakee Elks Country Club\, 2283 Bittersweet Dr\, St. Anne (IL\,\n\n60964). The day begins at 7:30am with a complimentary\n\nbreakfast. The shotgun start begins at 9:00am and concludes\n\nwith lunch and prizes! There will be a basket raffle prior to the\n\nshotgun start as well as exciting hole prizes. All participants\n\nwill also receive a special gift!  Contact Laurie Blake at 815-937-3707 ext 6003 or lblake@bbchs.org for more information.
X-ALT-DESC;FMTTYPE=text/html:The BBCHS Academic Foundation and Athletic Department is<br />\nproud to host the 17th Annual Boiler Golf Classic! We would<br />\nlove to have your support as a participant in this golf outing\,<br />\nand encourage you to assemble a foursome to join the fun!<br />\nThe Boiler Golf Classic will be held on July 16\, 2021 at the<br />\nKankakee Elks Country Club\, 2283 Bittersweet Dr\, St. Anne (IL\,<br />\n60964). The day begins at 7:30am with a complimentary<br />\nbreakfast. The shotgun start begins at 9:00am and concludes<br />\nwith lunch and prizes! There will be a basket raffle prior to the<br />\nshotgun start as well as exciting hole prizes. All participants<br />\nwill also receive a special gift!&nbsp\; Contact Laurie Blake at 815-937-3707 ext 6003 or lblake@bbchs.org for more information.
LOCATION:
UID:e.771.3672
SEQUENCE:3
DTSTAMP:20260419T194811Z
URL:https://business.kankakeecountychamber.com/events/details/2021-boiler-golf-classics-3672
END:VEVENT

END:VCALENDAR
