BEGIN:VCALENDAR
VERSION:2.0
PRODID:-//ChamberMaster//Event Calendar 2.0//EN
METHOD:PUBLISH
X-PUBLISHED-TTL:P3D
REFRESH-INTERVAL:P3D
CALSCALE:GREGORIAN
BEGIN:VEVENT
DTSTART:20201204T233000Z
DTEND:20201205T013000Z
X-MICROSOFT-CDO-ALLDAYEVENT:FALSE
SUMMARY:35th Annual Bradley Lighted Christmas Parade
DESCRIPTION:In an effort to raise the spirits of our community\, we are moving forward with plans for our 35th Annual Bradley Lighted Christmas Parade. The parade theme this year is Christmas Memories\; an opportunity to look back with fondness and look forward with hope. Please join us in making merry Christmas Memories for our community on Broadway\, Friday\, December 4th at 6:30 p.m. New addition this year! Make some Christmas Memories With Your Best Friend Puppy Parade competition in our Christmas parade! Sponsored by the puppy loving Anderson Family. As you consider your parade participation as an entry\, sponsor or spectator please keep in mind all Covid safety guidelines including masks and social distancing. We are hopeful all will be well and we'll see you at the 35th Annual Bradley Christmas Parade on December 4 as we make more Christmas Memories on Broadway!
X-ALT-DESC;FMTTYPE=text/html:In an effort to raise the spirits of our community\, we are moving forward with plans for our 35th Annual Bradley Lighted Christmas Parade. The parade theme this year is Christmas Memories\; an opportunity to look back with fondness and look forward with hope. Please join us in making merry Christmas Memories for our community on Broadway\, Friday\, December 4th at 6:30 p.m. New addition this year! Make some Christmas Memories&hellip\;With Your Best Friend Puppy Parade competition in our Christmas parade! Sponsored by the puppy loving Anderson Family. As you consider your parade participation as an entry\, sponsor or spectator please keep in mind all Covid safety guidelines including masks and social distancing. We are hopeful all will be well and we&rsquo\;ll see you at the 35th Annual Bradley Christmas Parade on December 4 as we make more Christmas Memories on Broadway!
LOCATION:West Broadway in Bradley
UID:e.771.3526
SEQUENCE:3
DTSTAMP:20260420T071322Z
URL:https://business.kankakeecountychamber.com/events/details/35th-annual-bradley-lighted-christmas-parade-3526
END:VEVENT

END:VCALENDAR
