BEGIN:VCALENDAR
VERSION:2.0
PRODID:-//ChamberMaster//Event Calendar 2.0//EN
METHOD:PUBLISH
X-PUBLISHED-TTL:P3D
REFRESH-INTERVAL:P3D
CALSCALE:GREGORIAN
BEGIN:VEVENT
DTSTART:20260517T150000Z
DTEND:20260517T210000Z
X-MICROSOFT-CDO-ALLDAYEVENT:FALSE
SUMMARY:36th Annual Rhubarb Festival
DESCRIPTION:The Kankakee County Museum will be hosting their 36th Annual Rhubarb Festival on Sunday\, May 17th. This beloved FUNdraising event starts at 10 a.m. and goes until 4 p.m. 2026 festivities include: a wide variety of vendors\, a dime toss\, kids' zone\, pie-eating contest\, live entertainment\, tours of the Taylor One-Room Schoolhouse and historic Dr. Small home\, and so much more! The Annual Kankakee Art League Show will also debut on this day. Rhubarb and strawberry-rhubarb whole pies and slices (provided by the Bennett-Curtis House) will be available for purchase as part of the museum's fundraising efforts along with a variety of jams provided by Turtle Acres. Pies and jams can also be pre-ordered online through Kankakee County Museum's website now through May 15th. The museum is currently accepting pie eating contest participants. Early registration is recommended. Those interested in registering can email us at kankakeecountymuseum@gmail.com or give us a call at 815-932-5279. More information can be found on our website: https://www.kankakeecountymuseum. *Visitors are encouraged to bring lawn chairs for comfort.
X-ALT-DESC;FMTTYPE=text/html:The Kankakee County Museum will be hosting their 36th Annual Rhubarb Festival on Sunday\, May 17th. This beloved FUNdraising event starts at 10 a.m. and goes until 4 p.m. 2026 festivities include: a wide variety of vendors\, a dime toss\, kids&rsquo\; zone\, pie-eating contest\, live entertainment\, tours of the Taylor One-Room Schoolhouse and historic Dr. Small home\, and so much more! The Annual Kankakee Art League Show will also debut on this day. Rhubarb and strawberry-rhubarb whole pies and slices (provided by the Bennett-Curtis House) will be available for purchase as part of the museum&rsquo\;s fundraising efforts along with a variety of jams provided by Turtle Acres. Pies and jams can also be pre-ordered online through Kankakee County Museum&rsquo\;s website now through May 15th. The museum is currently accepting pie eating contest participants. Early registration is recommended. Those interested in registering can email us at kankakeecountymuseum@gmail.com or give us a call at 815-932-5279. More information can be found on our website: https://www.kankakeecountymuseum. *Visitors are encouraged to bring lawn chairs for comfort.
LOCATION:Kankakee County Museum 801 South 8th Ave Kankakee IL 60901
UID:e.771.5817
SEQUENCE:3
DTSTAMP:20260423T094157Z
URL:https://business.kankakeecountychamber.com/events/details/36th-annual-rhubarb-festival-5817
END:VEVENT

END:VCALENDAR
