BEGIN:VCALENDAR
VERSION:2.0
PRODID:-//ChamberMaster//Event Calendar 2.0//EN
METHOD:PUBLISH
X-PUBLISHED-TTL:P3D
REFRESH-INTERVAL:P3D
CALSCALE:GREGORIAN
BEGIN:VEVENT
DTSTART:20200331T223000Z
DTEND:20200424T023000Z
X-MICROSOFT-CDO-ALLDAYEVENT:FALSE
SUMMARY:40-hr. Sexual Assault Crisis Intervention Training
DESCRIPTION:In our comprehensive training\, participants will learn how to respond to survivors of sexual assault with sensitivity and support by recognizing issues influencing different types of sexual violence\, understanding the medical and legal rights of survivors\, challenging theories of rape culture\, and more! Participants all earn a certificate in Sexual Assault Crisis Intervention. Qualifying professionals can earn 35 CEUs/CPDUs in partnership with KCC. After completion\, trainees are qualified to volunteer for KC-CASA/ISAS.
X-ALT-DESC;FMTTYPE=text/html:In our comprehensive training\, participants will learn how to respond to survivors of sexual assault with sensitivity and support by recognizing issues influencing different types of sexual violence\, understanding the medical and legal rights of survivors\, challenging theories of rape culture\, and more! Participants all earn a certificate in Sexual Assault Crisis Intervention. Qualifying professionals can earn 35 CEUs/CPDUs in partnership with KCC. After completion\, trainees are qualified to volunteer for KC-CASA/ISAS.
LOCATION:KC-CASA 1440 West Court Street Kankakee\, IL 60901
UID:e.771.3353
SEQUENCE:3
DTSTAMP:20260422T165959Z
URL:https://business.kankakeecountychamber.com/events/details/40-hr-sexual-assault-crisis-intervention-training-3353
END:VEVENT

END:VCALENDAR
