BEGIN:VCALENDAR
VERSION:2.0
PRODID:-//ChamberMaster//Event Calendar 2.0//EN
METHOD:PUBLISH
X-PUBLISHED-TTL:P3D
REFRESH-INTERVAL:P3D
CALSCALE:GREGORIAN
BEGIN:VEVENT
DTSTART:20200521T230000Z
DTEND:20200626T010000Z
X-MICROSOFT-CDO-ALLDAYEVENT:FALSE
SUMMARY:40-hr Virtual Crisis Intervention Training
DESCRIPTION:Volunteer with KC-CASA! KC-CASA's is offering its 40-Hour Crisis Intervention Training session for prospective volunteers\, professionals\, and students-VIRTUALLY. KC-CASA volunteers are often the first contact survivors have with our organization. They can have an enormous impact on a survivor's healing journey. Volunteer opportunities include: serving on our 24 Hour Crisis Hotline as an on-call advocate\, helping at special events and fundraisers\, and helping in-office. Training will consist of 16 virtual zoom sessions and two in-office sessions. Training begins Thursday\, May 21st\, and will be on Tuesdays\, Wednesdays\, and Thursdays. Each zoom session is from 6:00 pm- 8:00 pm. All 40 hours of training are mandatory and must be completed in order to be certified. Attendance will be taken at every session. Makeups are available but limited. For more information about 40-Hour Crisis Intervention Training\, please call Hannah at 815-932-7273 ext. 228 or email at hewoldt@kc-casa.org. We hope that you will consider joining us in the fight against sexual assault in our communities. KC-CASA + ISAS helps create a world where victims of sexual harm can speak up\, heal\, and thrive. For more information\, please call our Kankakee office at 815-932-7273 or visit www.kc-casa.org.
X-ALT-DESC;FMTTYPE=text/html:Volunteer with KC-CASA! KC-CASA&rsquo\;s is offering its 40-Hour Crisis Intervention Training session for prospective volunteers\, professionals\, and students-VIRTUALLY. KC-CASA volunteers are often the first contact survivors have with our organization. They can have an enormous impact on a survivor&rsquo\;s healing journey. Volunteer opportunities include: serving on our 24 Hour Crisis Hotline as an on-call advocate\, helping at special events and fundraisers\, and helping in-office. Training will consist of 16 virtual zoom sessions and two in-office sessions. Training begins Thursday\, May 21st\, and will be on Tuesdays\, Wednesdays\, and Thursdays. Each zoom session is from 6:00 pm- 8:00 pm. All 40 hours of training are mandatory and must be completed in order to be certified. Attendance will be taken at every session. Makeups are available but limited. For more information about 40-Hour Crisis Intervention Training\, please call Hannah at 815-932-7273 ext. 228 or email at hewoldt@kc-casa.org. We hope that you will consider joining us in the fight against sexual assault in our communities. KC-CASA + ISAS helps create a world where victims of sexual harm can speak up\, heal\, and thrive. For more information\, please call our Kankakee office at 815-932-7273 or visit www.kc-casa.org.
LOCATION:This is training is 80% virtual and 20% in the office. The in-office training will occur at KC-CASA - 1440 W. Court Street\, Kankakee
UID:e.771.3482
SEQUENCE:3
DTSTAMP:20260422T140753Z
URL:https://business.kankakeecountychamber.com/events/details/40-hr-virtual-crisis-intervention-training-3482
END:VEVENT

END:VCALENDAR
