BEGIN:VCALENDAR
VERSION:2.0
PRODID:-//ChamberMaster//Event Calendar 2.0//EN
METHOD:PUBLISH
X-PUBLISHED-TTL:P3D
REFRESH-INTERVAL:P3D
CALSCALE:GREGORIAN
BEGIN:VEVENT
DTSTART:20251204T150000Z
DTEND:20251228T230000Z
X-MICROSOFT-CDO-ALLDAYEVENT:FALSE
SUMMARY:47th Annual Gallery of Trees
DESCRIPTION:Your favorite holiday tradition will return for the 47th year at the Kankakee County Museum! All December long visitors can tour the museum grounds\, check out the BBCHS Annual Art Show\, and vote for their favorite decorated tree! This year's theme "Blast from the Past" is sure to take you back to another time. *December hours are Thursday through Sunday 9am to 7pm (CLOSED CHRISTMAS EVE\, CHRISTMAS DAY\, & NEW YEARS EVE) *Become a museum member to receive an invitation to the exclusive Preview Party! *We are currently accepting participant applications from nonprofits. Register early before the price increases or the spots get filled!
X-ALT-DESC;FMTTYPE=text/html:Your favorite holiday tradition will return for the 47th year at the Kankakee County Museum! All December long visitors can tour the museum grounds\, check out the BBCHS Annual Art Show\, and vote for their favorite decorated tree! This year&#39\;s theme &quot\;Blast from the Past&quot\; is sure to take you back to another time. *December hours are Thursday through Sunday 9am to 7pm (CLOSED CHRISTMAS EVE\, CHRISTMAS DAY\, &amp\; NEW YEARS EVE) *Become a museum member to receive an invitation to the exclusive Preview Party! *We are currently accepting participant applications from nonprofits. Register early before the price increases or the spots get filled!
LOCATION:Kankakee County Museum 801 S. 8th Ave\, Kankakee\, IL 60901
UID:e.771.5369
SEQUENCE:3
DTSTAMP:20260423T110424Z
URL:https://business.kankakeecountychamber.com/events/details/47th-annual-gallery-of-trees-5369
END:VEVENT

END:VCALENDAR
