BEGIN:VCALENDAR
VERSION:2.0
PRODID:-//ChamberMaster//Event Calendar 2.0//EN
METHOD:PUBLISH
X-PUBLISHED-TTL:P3D
REFRESH-INTERVAL:P3D
CALSCALE:GREGORIAN
BEGIN:VEVENT
DTSTART:20191102T170000Z
DTEND:20191102T170000Z
X-MICROSOFT-CDO-ALLDAYEVENT:FALSE
SUMMARY:4th Annual Great Mouse Race
DESCRIPTION:River Valley Special Recreation Foundation 4th Annual Great Mouse Race! A one of a kind unique fundraiser. Place your bet on your favorite mouse to win a prize at the end of night. Between races you can play Plinko or try your hand at Chuck-A-Luck. There will also be a silent auction
X-ALT-DESC;FMTTYPE=text/html:River Valley Special Recreation Foundation 4th Annual Great Mouse Race! A one of a kind unique fundraiser. Place your bet on your favorite mouse to win a prize at the end of night. Between races you can play Plinko or try your hand at Chuck-A-Luck. There will also be a silent auction
LOCATION:K of C Hall 187 S. Indiana Ave. Kankakee
UID:e.771.3028
SEQUENCE:3
DTSTAMP:20260422T232206Z
URL:https://business.kankakeecountychamber.com/events/details/4th-annual-great-mouse-race-3028
END:VEVENT

END:VCALENDAR
