BEGIN:VCALENDAR
VERSION:2.0
PRODID:-//ChamberMaster//Event Calendar 2.0//EN
METHOD:PUBLISH
X-PUBLISHED-TTL:P3D
REFRESH-INTERVAL:P3D
CALSCALE:GREGORIAN
BEGIN:VEVENT
DTSTART:20251028T203000Z
DTEND:20251028T220000Z
X-MICROSOFT-CDO-ALLDAYEVENT:FALSE
SUMMARY:A Little Spot of Emotion! Workshop for Kids
DESCRIPTION:In partnership with Harbor House\, this workshop helps children build emotional awareness and regulation skills. Using the beloved Little Spot book series by Diane Alber\, this program will feature a storytime\, hands-on activities\, and a discussion which encourages empathy\, self-expression\, and emotional resilience.\n\nChildren 1-4 years will meet from 3:30-4:00 pm\, and children 5-8 years will meet from 4:00-5:00 pm. Please register on our website.
X-ALT-DESC;FMTTYPE=text/html:<p>In partnership with Harbor House\, this workshop helps children build emotional awareness and regulation skills. Using the beloved Little Spot book series by Diane Alber\, this program will feature a storytime\, hands-on activities\, and a discussion which encourages empathy\, self-expression\, and emotional resilience.</p>\n\n<p>Children 1-4 years will meet from 3:30-4:00 pm\, and children 5-8 years will meet from 4:00-5:00 pm. Please register on our website.</p>\n
LOCATION:Bourbonnais Public Library
UID:e.771.5421
SEQUENCE:3
DTSTAMP:20260423T134553Z
URL:https://business.kankakeecountychamber.com/events/details/a-little-spot-of-emotion-workshop-for-kids-5421
END:VEVENT

END:VCALENDAR
