BEGIN:VCALENDAR
VERSION:2.0
PRODID:-//ChamberMaster//Event Calendar 2.0//EN
METHOD:PUBLISH
X-PUBLISHED-TTL:P3D
REFRESH-INTERVAL:P3D
CALSCALE:GREGORIAN
BEGIN:VEVENT
DTSTART:20210827T160000Z
DTEND:20210827T180000Z
X-MICROSOFT-CDO-ALLDAYEVENT:FALSE
SUMMARY:August 2021 New Member Lunch
DESCRIPTION:Join us at the Kankakee Public Library (3rd floor conference room) on August 27\, 2021 from 11am to 1pm to learn all about the Kankakee County Chamber of Commerce!  This is open to all members\, not just new!\n\n\n\nLunch will be provided!
X-ALT-DESC;FMTTYPE=text/html:Join us at the Kankakee Public Library (3rd floor conference room) on August 27\, 2021 from 11am to 1pm to learn all about the Kankakee County Chamber of Commerce!&nbsp\; This is open to all members\, not just new!<br />\n<br />\nLunch will be provided!
LOCATION:201 E Merchant St\, Kankakee\, IL 60901
UID:e.771.3681
SEQUENCE:3
DTSTAMP:20260419T182213Z
URL:https://business.kankakeecountychamber.com/events/details/august-2021-new-member-lunch-3681
END:VEVENT

END:VCALENDAR
