BEGIN:VCALENDAR
VERSION:2.0
PRODID:-//ChamberMaster//Event Calendar 2.0//EN
METHOD:PUBLISH
X-PUBLISHED-TTL:P3D
REFRESH-INTERVAL:P3D
CALSCALE:GREGORIAN
BEGIN:VEVENT
DTSTART:20260801T140000Z
DTEND:20260801T180000Z
X-MICROSOFT-CDO-ALLDAYEVENT:FALSE
SUMMARY:Back to School Fair
DESCRIPTION:Hippocrates Medical Clinic hosts an annual Back-to-School Health Fair that brings together local nonprofits\, community organizations\, and businesses to support families as they prepare for the new school year. This free event provides school physicals\, vision screenings\, and essential health resources to ensure every child starts the year healthy and ready to learn. In addition to medical services\, families can connect with a wide range of community partners offering information on wellness programs\, educational support\, family services\, and other local resources. The event creates a welcoming space where children\, parents\, and caregivers can receive care\, ask questions\, and learn about programs available throughout Kankakee County. The Back-to-School Health Fair reflects our commitment to accessible healthcare\, strong community partnerships\, and helping every student begin the school year with confidence.
X-ALT-DESC;FMTTYPE=text/html:Hippocrates Medical Clinic hosts an annual Back-to-School Health Fair that brings together local nonprofits\, community organizations\, and businesses to support families as they prepare for the new school year. This free event provides school physicals\, vision screenings\, and essential health resources to ensure every child starts the year healthy and ready to learn. In addition to medical services\, families can connect with a wide range of community partners offering information on wellness programs\, educational support\, family services\, and other local resources. The event creates a welcoming space where children\, parents\, and caregivers can receive care\, ask questions\, and learn about programs available throughout Kankakee County. The Back-to-School Health Fair reflects our commitment to accessible healthcare\, strong community partnerships\, and helping every student begin the school year with confidence.
LOCATION:606 E Court Street
UID:e.771.5847
SEQUENCE:3
DTSTAMP:20260423T134010Z
URL:https://business.kankakeecountychamber.com/events/details/back-to-school-fair-5847
END:VEVENT

END:VCALENDAR
