BEGIN:VCALENDAR
VERSION:2.0
PRODID:-//ChamberMaster//Event Calendar 2.0//EN
METHOD:PUBLISH
X-PUBLISHED-TTL:P3D
REFRESH-INTERVAL:P3D
CALSCALE:GREGORIAN
BEGIN:VEVENT
DTSTART:20220715T123000Z
DTEND:20220715T200000Z
X-MICROSOFT-CDO-ALLDAYEVENT:FALSE
SUMMARY:BBCHS Boiler Golf Classic
DESCRIPTION:The BBCHS Academic Foundation & Athletic Department are hosting the 18th Annual Boiler Golf Classic. Assemble a foursome to join us on Friday\, July 15th at the Kankakee Elks Country Club. The day includes breakfast\, beverages\, gree & cart fees\, snacks\, games\, prizes\, lunch & more! The proceeds from the outing provide classroom grants and scholarships for BBCHS students. We hope you'll join us!
X-ALT-DESC;FMTTYPE=text/html:The BBCHS Academic Foundation &amp\; Athletic Department are hosting the 18th Annual Boiler Golf Classic. Assemble a foursome to join us on Friday\, July 15th at the Kankakee Elks Country Club. The day includes breakfast\, beverages\, gree &amp\; cart fees\, snacks\, games\, prizes\, lunch &amp\; more! The proceeds from the outing provide classroom grants and scholarships for BBCHS students. We hope you&#39\;ll join us!
LOCATION:Kankakee Elks Country Club 2283 Bittersweet St. Anne\, IL
UID:e.771.4210
SEQUENCE:3
DTSTAMP:20260422T084219Z
URL:https://business.kankakeecountychamber.com/events/details/bbchs-boiler-golf-classic-4210
END:VEVENT

END:VCALENDAR
