BEGIN:VCALENDAR
VERSION:2.0
PRODID:-//ChamberMaster//Event Calendar 2.0//EN
METHOD:PUBLISH
X-PUBLISHED-TTL:P3D
REFRESH-INTERVAL:P3D
CALSCALE:GREGORIAN
BEGIN:VEVENT
DTSTART:20221115T180000Z
DTEND:20221115T180000Z
X-MICROSOFT-CDO-ALLDAYEVENT:FALSE
SUMMARY:Benefits of joining SHRM
DESCRIPTION:FAITH STIPANOVICH\, SHRM-SCP Field Services Director\, The Society for Human Resource Management. Are you considering SHRM and not sure if a membership is worth $229? Or perhaps you have a SHRM Membership and rarely use the SHRM website. Join SHRM Field Services Director\, Faith Stipanovich\, SHRM-SCP as she shares with you some of the incredible resources available with your SHRM Membership\, an estimated $13\,000 value. Faith will provide a live demonstration of the SHRM website as she highlights SHRM's newest resources and some that you may have forgotten about. Come hear more about why you should join SHRM.
X-ALT-DESC;FMTTYPE=text/html:FAITH STIPANOVICH\, SHRM-SCP Field Services Director\, The Society for Human Resource Management. Are you considering SHRM and not sure if a membership is worth $229? Or perhaps you have a SHRM Membership and rarely use the SHRM website. Join SHRM Field Services Director\, Faith Stipanovich\, SHRM-SCP as she shares with you some of the incredible resources available with your SHRM Membership\, an estimated $13\,000 value. Faith will provide a live demonstration of the SHRM website as she highlights SHRM&rsquo\;s newest resources and some that you may have forgotten about. Come hear more about why you should join SHRM.
LOCATION:Olivet Nazarene University Weber Center- Leadership Room 1st Floor\, 1 University Ave Bourbonnais\, IL 60914
UID:e.771.4263
SEQUENCE:3
DTSTAMP:20260420T071838Z
URL:https://business.kankakeecountychamber.com/events/details/benefits-of-joining-shrm-11-15-2022-4263
END:VEVENT

END:VCALENDAR
