BEGIN:VCALENDAR
VERSION:2.0
PRODID:-//ChamberMaster//Event Calendar 2.0//EN
METHOD:PUBLISH
X-PUBLISHED-TTL:P3D
REFRESH-INTERVAL:P3D
CALSCALE:GREGORIAN
BEGIN:VEVENT
DTSTART;VALUE=DATE:20210206
DTEND;VALUE=DATE:20210208
TRANSP:TRANSPARENT
X-MICROSOFT-CDO-ALLDAYEVENT:TRUE
SUMMARY:Bennett Curtis House - Valentine's Weekend- Wizard Themed Dinner
DESCRIPTION:Treat Your Sweetheart to a romantic dinner in our turn of the century mansion. Choose from our special "Sweethearts" Valentine's Day Prix Fixe Dinner Package or our Special "Be My Valentine" 7-course dinner with a selection of dishes paired with holiday specialty drinks!\n\nReservations are required (815) 465-2288 *Call for availability and more information\n\n\n\n\n\n\n\n \n\n\n\nValentine's Day Prix Fixe Dinner\n\n$60.00\n\n\nA Special 5-Course VALENTINE'S DAY Dinner\n\nPrix Fixe Dinner\n\n \n\nJoin us for a prix-fixe dinner this Valentine's Day. The 5-course menu includes a starter\, house made soup\, salad\, entr e\, and dessert\, only available on Valentine's Day. By Reservation Only!\n\n \n\nMenu\n\n(pre ordered selections from each course to be made when placing your reservation- please make your selections below for each guest)\n\n \n\nStarter\n\nPersonal Charcuterie Board- Loaded with a variety of cured meats\, cheese\, fruit\, and crackers\n\n \n\nSoup\n\nLobster Bisque- a classic smooth and creamy French soup  \n\nZuppa Tuscana- a creamy soup with spicy Italian sausage \, potatoes\, and spinach\n\n \n\nSalad\n\nBennett-Curtis House Tossed Salad  mixed greens topped with fresh vegetables & golden Italian dressing\n\nCaesar Salad  fresh romaine topped with parmesan cheese & Caesar dressing\n\n \n\nEntr e\n\nShrimp Scampi & Filet Mignon   combination of succulent shrimp scampi and tender 6oz filet served with twice baked potato and honey glazed carrots\n\nChicken Florentine- Tender chicken breast stuffed w/spinach & cheese wrapped in puff pastry served with rice pilaf and honey glazed carrots\n\nTilapia- pan seared Lemon Herb Butter Tilapia served with rice pilaf and honey glazed carrots\n\n \n\nDessert\n\nDeath by Chocolate Brownie Sundae - a hot fudge brownie topped with vanilla ice-cream\, caramel\, chocolate\, whipped cream\n\nNY style Cheesecake - topped with fresh sugared strawberries\n\n \n\n$60.00 per person\, tax and gratuity not included\n\n \n\n*Optional wine pairing available for $35.00 per person\n\n \n\nSeatings available from 4:30PM-8:45PM\n\n \n\nIf you or your dining companion(s) have dietary restrictions or allergies\, please make note on your reservation\, or contact bennettcurtis@sbcglobal.net\n\n \n\nNote: during checkout it will say "pick up" however these reservations are for Dine In\, if you prefer carry out please be sure to make a note on your order form. Thank you. \n\n**IF YOU WOULD LIKE TO ORDER YOUR MEAL FOR CARRY OUT PLEASE MAKE A NOTE ON YOUR ORDER OR CALL (815) 465-2288\, Thank you!**\n\n \n\n\nMake Your Reservations
X-ALT-DESC;FMTTYPE=text/html:<div class="paragraph" style="overflow-wrap: break-word\; margin: 0px auto 1em\; padding: 0px\; line-height: 34px !important\; font-family: &quot\;Gentium Basic&quot\; !important\; font-size: 18px !important\; color: rgb(123\, 140\, 137) !important\;">Treat Your Sweetheart to a romantic dinner in our turn of the century mansion.&nbsp\;Choose from our special &quot\;Sweethearts&quot\; Valentine&#39\;s Day Prix Fixe Dinner Package or our Special &quot\;Be My Valentine&quot\; 7-course dinner with a selection of dishes paired with holiday specialty drinks!<br />\nReservations are required (815) 465-2288&nbsp\;*Call for availability and more information</div>\n\n<div class="commerce-elements-wrapper products__published" data-page-element-id="509522349585652877" data-page-id="884886470798505413" style="padding: 10px 0px\; position: relative\;">\n<div class="commerce-layout-wrapper">\n<div class="product-grid product-grid-columns--2 product-grid-layout--above" style="clear: both\; width: 912px\;">\n<div class="product-grid__item" style="line-height: 1\; margin-bottom: 21.5px\; position: relative\; font-size: 18px\; float: left\; margin-right: 22.2344px\; width: 444.875px\; clear: left\;">\n<div class="product-grid__content">\n<div class="product-grid__images" style="margin-bottom: 1em\;">\n<div class="product-grid-image image-1 product-grid-image__default product-grid-image-aspect--3-2 js-default-img" style="position: relative\; width: 444.875px\; padding-top: 296.547px\; background-size: cover\; background-position: center center\; background-image: url(&quot\;/uploads/2/6/8/4/26849944/s840344390261001762_p14_i4_w600.png&quot\;)\;">&nbsp\;</div>\n</div>\n\n<div class="product-grid__info">\n<h2 class="product-grid__title" style="overflow-wrap: break-word\; margin: 0px auto 9px\; padding: 0px\; font-weight: normal\; font-family: &quot\;Playfair Display&quot\; !important\; font-size: 34px !important\; color: rgb(66\, 81\, 76) !important\;"><span class="product-grid-reset" style="display: block\; word-break: break-word\; line-height: 1\; font-size: 20.25px\;">Valentine&#39\;s Day Prix Fixe Dinner</span></h2>\n\n<div class="product-grid__price paragraph" style="overflow-wrap: break-word\; margin: 0px auto 9px\; padding: 0px\; line-height: 34px !important\; font-family: &quot\;Gentium Basic&quot\; !important\; color: rgb(123\, 140\, 137) !important\;"><span class="product-grid-reset" style="display: block\; word-break: break-word\; line-height: 1\;">$60.00</span></div>\n\n<div class="product-grid__description paragraph" style="overflow-wrap: break-word\; margin: 0px auto 18px\; padding: 0px\; line-height: 34px !important\; font-family: &quot\;Gentium Basic&quot\; !important\; color: rgb(123\, 140\, 137) !important\;">\n<p style="margin: 0px auto 1em\; padding: 0px\; line-height: 34px !important\;"><span class="product-grid-reset product-grid__description--shortened" style="display: block\; word-break: break-word\; line-height: 1.25\; max-height: 2.5em\; -webkit-line-clamp: 2\; overflow: hidden\; text-overflow: ellipsis\;">A Special 5-Course<strong>&nbsp\;VALENTINE&#39\;S DAY&nbsp\;</strong>Dinner</span></p>\n\n<p style="margin: 0px auto 1em\; padding: 0px\; line-height: 34px !important\;"><span class="product-grid-reset product-grid__description--shortened" style="display: block\; word-break: break-word\; line-height: 1.25\; max-height: 2.5em\; -webkit-line-clamp: 2\; overflow: hidden\; text-overflow: ellipsis\;">Prix Fixe Dinner</span></p>\n\n<p style="margin: 0px auto 1em\; padding: 0px\; line-height: 34px !important\;">&nbsp\;</p>\n\n<p style="margin: 0px auto 1em\; padding: 0px\; line-height: 34px !important\;"><span class="product-grid-reset product-grid__description--shortened" style="display: block\; word-break: break-word\; line-height: 1.25\; max-height: 2.5em\; -webkit-line-clamp: 2\; overflow: hidden\; text-overflow: ellipsis\;">Join us for a prix-fixe dinner this Valentine&#39\;s Day. The 5-course menu includes a starter\, house made soup\, salad\, entr&eacute\;e\, and dessert\, only available on Valentine&#39\;s Day.&nbsp\;By Reservation Only!</span></p>\n\n<p style="margin: 0px auto 1em\; padding: 0px\; line-height: 34px !important\;">&nbsp\;</p>\n\n<p style="margin: 0px auto 1em\; padding: 0px\; line-height: 34px !important\;"><span class="product-grid-reset product-grid__description--shortened" style="display: block\; word-break: break-word\; line-height: 1.25\; max-height: 2.5em\; -webkit-line-clamp: 2\; overflow: hidden\; text-overflow: ellipsis\;"><strong>Menu</strong></span></p>\n\n<p style="margin: 0px auto 1em\; padding: 0px\; line-height: 34px !important\;"><span class="product-grid-reset product-grid__description--shortened" style="display: block\; word-break: break-word\; line-height: 1.25\; max-height: 2.5em\; -webkit-line-clamp: 2\; overflow: hidden\; text-overflow: ellipsis\;"><em style="position: relative\;">(pre ordered selections from each course to be made when placing your reservation- please make your selections below for each guest)</em></span></p>\n\n<p style="margin: 0px auto 1em\; padding: 0px\; line-height: 34px !important\;">&nbsp\;</p>\n\n<p style="margin: 0px auto 1em\; padding: 0px\; line-height: 34px !important\;"><span class="product-grid-reset product-grid__description--shortened" style="display: block\; word-break: break-word\; line-height: 1.25\; max-height: 2.5em\; -webkit-line-clamp: 2\; overflow: hidden\; text-overflow: ellipsis\;"><strong><em style="position: relative\;">Starter</em></strong></span></p>\n\n<p style="margin: 0px auto 1em\; padding: 0px\; line-height: 34px !important\;"><span class="product-grid-reset product-grid__description--shortened" style="display: block\; word-break: break-word\; line-height: 1.25\; max-height: 2.5em\; -webkit-line-clamp: 2\; overflow: hidden\; text-overflow: ellipsis\;"><strong><em style="position: relative\;">Personal Charcuterie Board</em></strong><em style="position: relative\;">-</em><strong><em style="position: relative\;">&nbsp\;</em></strong><em style="position: relative\;">Loaded with a variety of cured meats\, cheese\, fruit\, and crackers</em></span></p>\n\n<p style="margin: 0px auto 1em\; padding: 0px\; line-height: 34px !important\;"><span class="product-grid-reset product-grid__description--shortened" style="display: block\; word-break: break-word\; line-height: 1.25\; max-height: 2.5em\; -webkit-line-clamp: 2\; overflow: hidden\; text-overflow: ellipsis\;"><em style="position: relative\;">&nbsp\;</em></span></p>\n\n<p style="margin: 0px auto 1em\; padding: 0px\; line-height: 34px !important\;"><span class="product-grid-reset product-grid__description--shortened" style="display: block\; word-break: break-word\; line-height: 1.25\; max-height: 2.5em\; -webkit-line-clamp: 2\; overflow: hidden\; text-overflow: ellipsis\;"><strong><em style="position: relative\;">Soup</em></strong></span></p>\n\n<p style="margin: 0px auto 1em\; padding: 0px\; line-height: 34px !important\;"><span class="product-grid-reset product-grid__description--shortened" style="display: block\; word-break: break-word\; line-height: 1.25\; max-height: 2.5em\; -webkit-line-clamp: 2\; overflow: hidden\; text-overflow: ellipsis\;"><strong><em style="position: relative\;">Lobster Bisque</em></strong><em style="position: relative\;">- a classic smooth and creamy French&nbsp\;soup&nbsp\;</em><strong><em style="position: relative\;">&nbsp\;</em></strong></span></p>\n\n<p style="margin: 0px auto 1em\; padding: 0px\; line-height: 34px !important\;"><span class="product-grid-reset product-grid__description--shortened" style="display: block\; word-break: break-word\; line-height: 1.25\; max-height: 2.5em\; -webkit-line-clamp: 2\; overflow: hidden\; text-overflow: ellipsis\;"><strong><em style="position: relative\;">Zuppa Tuscana</em></strong><em style="position: relative\;">- a creamy soup with spicy Italian sausage \, potatoes\, and spinach</em></span></p>\n\n<p style="margin: 0px auto 1em\; padding: 0px\; line-height: 34px !important\;"><span class="product-grid-reset product-grid__description--shortened" style="display: block\; word-break: break-word\; line-height: 1.25\; max-height: 2.5em\; -webkit-line-clamp: 2\; overflow: hidden\; text-overflow: ellipsis\;"><em style="position: relative\;">&nbsp\;</em></span></p>\n\n<p style="margin: 0px auto 1em\; padding: 0px\; line-height: 34px !important\;"><span class="product-grid-reset product-grid__description--shortened" style="display: block\; word-break: break-word\; line-height: 1.25\; max-height: 2.5em\; -webkit-line-clamp: 2\; overflow: hidden\; text-overflow: ellipsis\;"><strong><em style="position: relative\;">Salad</em></strong></span></p>\n\n<p style="margin: 0px auto 1em\; padding: 0px\; line-height: 34px !important\;"><span class="product-grid-reset product-grid__description--shortened" style="display: block\; word-break: break-word\; line-height: 1.25\; max-height: 2.5em\; -webkit-line-clamp: 2\; overflow: hidden\; text-overflow: ellipsis\;"><strong><em style="position: relative\;">Bennett-Curtis House Tossed Salad</em></strong><em style="position: relative\;">&ndash\; mixed greens topped with fresh vegetables &amp\; golden Italian dressing</em></span></p>\n\n<p style="margin: 0px auto 1em\; padding: 0px\; line-height: 34px !important\;"><span class="product-grid-reset product-grid__description--shortened" style="display: block\; word-break: break-word\; line-height: 1.25\; max-height: 2.5em\; -webkit-line-clamp: 2\; overflow: hidden\; text-overflow: ellipsis\;"><strong><em style="position: relative\;">Caesar Salad</em></strong><em style="position: relative\;">&ndash\; fresh romaine topped with parmesan cheese &amp\; Caesar dressing</em></span></p>\n\n<p style="margin: 0px auto 1em\; padding: 0px\; line-height: 34px !important\;"><span class="product-grid-reset product-grid__description--shortened" style="display: block\; word-break: break-word\; line-height: 1.25\; max-height: 2.5em\; -webkit-line-clamp: 2\; overflow: hidden\; text-overflow: ellipsis\;"><em style="position: relative\;">&nbsp\;</em></span></p>\n\n<p style="margin: 0px auto 1em\; padding: 0px\; line-height: 34px !important\;"><span class="product-grid-reset product-grid__description--shortened" style="display: block\; word-break: break-word\; line-height: 1.25\; max-height: 2.5em\; -webkit-line-clamp: 2\; overflow: hidden\; text-overflow: ellipsis\;"><strong><em style="position: relative\;">Entr&eacute\;e</em></strong></span></p>\n\n<p style="margin: 0px auto 1em\; padding: 0px\; line-height: 34px !important\;"><span class="product-grid-reset product-grid__description--shortened" style="display: block\; word-break: break-word\; line-height: 1.25\; max-height: 2.5em\; -webkit-line-clamp: 2\; overflow: hidden\; text-overflow: ellipsis\;"><strong>Shrimp Scampi &amp\; Filet Mignon&nbsp\;<em style="position: relative\;">&ndash\;&nbsp\;</em></strong><em style="position: relative\;">combination of succulent shrimp scampi and tender 6oz filet served with twice baked potato and honey glazed carrots</em></span></p>\n\n<p style="margin: 0px auto 1em\; padding: 0px\; line-height: 34px !important\;"><span class="product-grid-reset product-grid__description--shortened" style="display: block\; word-break: break-word\; line-height: 1.25\; max-height: 2.5em\; -webkit-line-clamp: 2\; overflow: hidden\; text-overflow: ellipsis\;"><strong>Chicken Florentine-&nbsp\;</strong><em style="position: relative\;">Tender chicken breast stuffed w/spinach &amp\; cheese wrapped in puff pastry served with rice pilaf and honey glazed carrots</em></span></p>\n\n<p style="margin: 0px auto 1em\; padding: 0px\; line-height: 34px !important\;"><span class="product-grid-reset product-grid__description--shortened" style="display: block\; word-break: break-word\; line-height: 1.25\; max-height: 2.5em\; -webkit-line-clamp: 2\; overflow: hidden\; text-overflow: ellipsis\;"><strong>Tilapia-&nbsp\;</strong><em style="position: relative\;">pan seared Lemon Herb Butter Tilapia served with rice pilaf and honey glazed carrots</em></span></p>\n\n<p style="margin: 0px auto 1em\; padding: 0px\; line-height: 34px !important\;"><span class="product-grid-reset product-grid__description--shortened" style="display: block\; word-break: break-word\; line-height: 1.25\; max-height: 2.5em\; -webkit-line-clamp: 2\; overflow: hidden\; text-overflow: ellipsis\;"><em style="position: relative\;">&nbsp\;</em></span></p>\n\n<p style="margin: 0px auto 1em\; padding: 0px\; line-height: 34px !important\;"><span class="product-grid-reset product-grid__description--shortened" style="display: block\; word-break: break-word\; line-height: 1.25\; max-height: 2.5em\; -webkit-line-clamp: 2\; overflow: hidden\; text-overflow: ellipsis\;"><strong><em style="position: relative\;">Dessert</em></strong></span></p>\n\n<p style="margin: 0px auto 1em\; padding: 0px\; line-height: 34px !important\;"><span class="product-grid-reset product-grid__description--shortened" style="display: block\; word-break: break-word\; line-height: 1.25\; max-height: 2.5em\; -webkit-line-clamp: 2\; overflow: hidden\; text-overflow: ellipsis\;"><strong>Death by Chocolate Brownie Sundae</strong>&nbsp\;- a&nbsp\;<em style="position: relative\;">hot fudge brownie topped with vanilla ice-cream\, caramel\, chocolate\, whipped cream</em></span></p>\n\n<p style="margin: 0px auto 1em\; padding: 0px\; line-height: 34px !important\;"><span class="product-grid-reset product-grid__description--shortened" style="display: block\; word-break: break-word\; line-height: 1.25\; max-height: 2.5em\; -webkit-line-clamp: 2\; overflow: hidden\; text-overflow: ellipsis\;"><strong>NY style Cheesecake</strong>&nbsp\;-&nbsp\;<em style="position: relative\;">topped with fresh sugared strawberries</em></span></p>\n\n<p style="margin: 0px auto 1em\; padding: 0px\; line-height: 34px !important\;">&nbsp\;</p>\n\n<p style="margin: 0px auto 1em\; padding: 0px\; line-height: 34px !important\;"><span class="product-grid-reset product-grid__description--shortened" style="display: block\; word-break: break-word\; line-height: 1.25\; max-height: 2.5em\; -webkit-line-clamp: 2\; overflow: hidden\; text-overflow: ellipsis\;">$60.00 per person\, tax and gratuity not included</span></p>\n\n<p style="margin: 0px auto 1em\; padding: 0px\; line-height: 34px !important\;">&nbsp\;</p>\n\n<p style="margin: 0px auto 1em\; padding: 0px\; line-height: 34px !important\;"><span class="product-grid-reset product-grid__description--shortened" style="display: block\; word-break: break-word\; line-height: 1.25\; max-height: 2.5em\; -webkit-line-clamp: 2\; overflow: hidden\; text-overflow: ellipsis\;">*Optional wine pairing available for $35.00 per person</span></p>\n\n<p style="margin: 0px auto 1em\; padding: 0px\; line-height: 34px !important\;">&nbsp\;</p>\n\n<p style="margin: 0px auto 1em\; padding: 0px\; line-height: 34px !important\;"><span class="product-grid-reset product-grid__description--shortened" style="display: block\; word-break: break-word\; line-height: 1.25\; max-height: 2.5em\; -webkit-line-clamp: 2\; overflow: hidden\; text-overflow: ellipsis\;">Seatings available from 4:30PM-8:45PM</span></p>\n\n<p style="margin: 0px auto 1em\; padding: 0px\; line-height: 34px !important\;">&nbsp\;</p>\n\n<p style="margin: 0px auto 1em\; padding: 0px\; line-height: 34px !important\;"><span class="product-grid-reset product-grid__description--shortened" style="display: block\; word-break: break-word\; line-height: 1.25\; max-height: 2.5em\; -webkit-line-clamp: 2\; overflow: hidden\; text-overflow: ellipsis\;"><em style="position: relative\;">If you or your dining companion(s) have dietary restrictions or allergies\, please make note on your reservation\, or contact bennettcurtis@sbcglobal.net</em></span></p>\n\n<p style="margin: 0px auto 1em\; padding: 0px\; line-height: 34px !important\;">&nbsp\;</p>\n\n<p style="margin: 0px auto 1em\; padding: 0px\; line-height: 34px !important\;"><span class="product-grid-reset product-grid__description--shortened" style="display: block\; word-break: break-word\; line-height: 1.25\; max-height: 2.5em\; -webkit-line-clamp: 2\; overflow: hidden\; text-overflow: ellipsis\;">Note: during checkout it will say &ldquo\;pick up&rdquo\; however these reservations are for Dine In\, if you prefer carry out please be sure to make a note on your order form. Thank you.&nbsp\;</span></p>\n\n<p style="margin: 0px auto 1em\; padding: 0px\; line-height: 34px !important\;"><span class="product-grid-reset product-grid__description--shortened" style="display: block\; word-break: break-word\; line-height: 1.25\; max-height: 2.5em\; -webkit-line-clamp: 2\; overflow: hidden\; text-overflow: ellipsis\;"><em style="position: relative\;">**IF YOU WOULD LIKE TO ORDER YOUR MEAL FOR CARRY OUT PLEASE MAKE A NOTE ON YOUR ORDER OR CALL (815) 465-2288\, Thank you!**</em></span></p>\n\n<p style="margin: 0px auto 1em\; padding: 0px\; line-height: 34px !important\;"><span class="product-grid-reset product-grid__description--shortened" style="display: block\; word-break: break-word\; line-height: 1.25\; max-height: 2.5em\; -webkit-line-clamp: 2\; overflow: hidden\; text-overflow: ellipsis\;">&nbsp\;</span></p>\n</div>\n\n<div class="product-grid__button" style="backface-visibility: hidden\;"><a class="wsite-button wsite-button-large wsite-button-normal" href="https://bennettcurtis.weebly.com/store/p14/Valentine%27s_Day_Prix_Fixe_Dinner.html" style="color: white\; transition: all 0.2s ease-in-out 0s\; display: inline-block\; background-position: 100% -130px\; background-size: initial\; background-repeat: no-repeat\; background-attachment: initial\; background-origin: initial\; background-clip: initial\; background-color: rgb(72\, 72\, 72)\; cursor: pointer\; backface-visibility: hidden\; text-decoration-line: none !important\; padding: 10px 25px !important\; background-image: none !important\;"><span class="wsite-button-inner" style="float: left\; background-position: 0px -1px\; background-size: initial\; background-repeat: no-repeat\; background-attachment: initial\; background-origin: initial\; background-clip: initial\; background-color: inherit\; white-space: nowrap\; background-image: none !important\; padding: 0px !important\; height: auto !important\; line-height: 1.25 !important\; font-family: Raleway !important\; letter-spacing: 2px !important\; font-size: 11px !important\;">Make Your Reservations</span></a></div>\n</div>\n</div>\n</div>\n\n<div class="product-grid__item" style="line-height: 1\; margin-bottom: 21.5px\; position: relative\; font-size: 18px\; float: left\; margin-right: 0px\; width: 444.875px\;">\n<div class="product-grid__content" style="color: rgb(142\, 142\, 142)\; font-family: Raleway\, sans-serif\; background-color: rgb(255\, 255\, 255)\;">\n<div class="product-grid__images" style="margin-bottom: 1em\;">&nbsp\;</div>\n</div>\n</div>\n</div>\n</div>\n</div>\n
LOCATION:Bennett Curtis House 302 W. Taylor St Grant Park\, IL
UID:e.771.3595
SEQUENCE:3
DTSTAMP:20260420T030818Z
URL:https://business.kankakeecountychamber.com/events/details/bennett-curtis-house-valentine-s-weekend-wizard-themed-dinner-3595
END:VEVENT

END:VCALENDAR
