BEGIN:VCALENDAR
VERSION:2.0
PRODID:-//ChamberMaster//Event Calendar 2.0//EN
METHOD:PUBLISH
X-PUBLISHED-TTL:P3D
REFRESH-INTERVAL:P3D
CALSCALE:GREGORIAN
BEGIN:VEVENT
DTSTART:20210612T133000Z
DTEND:20210612T153000Z
X-MICROSOFT-CDO-ALLDAYEVENT:FALSE
SUMMARY:Birds of Midewin National Tallgrass Prairie (East side hiking tour)
DESCRIPTION:You might see blue grosbeaks\, loggerhead shrikes\, bobolinks\, grasshopper sparrows\, black-billed cuckoos\, mockingbirds\, & brown thrashers. Bring your binoculars! This 2-hour east side walking tour will begin at the Welcome Center. Participants will follow tour guides to the Iron Bridge Trailhead to start the hike. Register: SM.FS.Midewin_RSVP@usad.gov or 815 423-6370
X-ALT-DESC;FMTTYPE=text/html:You might see blue grosbeaks\, loggerhead shrikes\, bobolinks\, grasshopper sparrows\, black-billed cuckoos\, mockingbirds\, &amp\; brown thrashers. Bring your binoculars! This 2-hour east side walking tour will begin at the Welcome Center. Participants will follow tour guides to the Iron Bridge Trailhead to start the hike. Register: SM.FS.Midewin_RSVP@usad.gov or 815 423-6370
LOCATION:Midewin National Tallgrass Prairie 30239 S State Route 53 Wilmington\, IL 60481
UID:e.771.3639
SEQUENCE:3
DTSTAMP:20260419T213441Z
URL:https://business.kankakeecountychamber.com/events/details/birds-of-midewin-national-tallgrass-prairie-east-side-hiking-tour-3639
END:VEVENT

END:VCALENDAR
