BEGIN:VCALENDAR
VERSION:2.0
PRODID:-//ChamberMaster//Event Calendar 2.0//EN
METHOD:PUBLISH
X-PUBLISHED-TTL:P3D
REFRESH-INTERVAL:P3D
CALSCALE:GREGORIAN
BEGIN:VEVENT
DTSTART:20210610T000000Z
DTEND:20210610T010000Z
X-MICROSOFT-CDO-ALLDAYEVENT:FALSE
SUMMARY:Birds of Midewin National Tallgrass Prairie webinars: Part 2
DESCRIPTION:Learn all about the birds that call Midewin NTP home. What makes Midewin NTP a special place for grassland birds? Will County Audubon Society Vice President and Midewin NTP volunteer Greg Dubois will present. Part 2 of 2. Register: SM.FS.Midewin_RSVP@usda.gov or 815 423-6370
X-ALT-DESC;FMTTYPE=text/html:Learn all about the birds that call Midewin NTP home. What makes Midewin NTP a special place for grassland birds? Will County Audubon Society Vice President and Midewin NTP volunteer Greg Dubois will present. Part 2 of 2. Register: SM.FS.Midewin_RSVP@usda.gov or 815 423-6370
LOCATION:Virtual
UID:e.771.3638
SEQUENCE:3
DTSTAMP:20260419T224432Z
URL:https://business.kankakeecountychamber.com/events/details/birds-of-midewin-national-tallgrass-prairie-webinars-part-2-3638
END:VEVENT

END:VCALENDAR
