BEGIN:VCALENDAR
VERSION:2.0
PRODID:-//ChamberMaster//Event Calendar 2.0//EN
METHOD:PUBLISH
X-PUBLISHED-TTL:P3D
REFRESH-INTERVAL:P3D
CALSCALE:GREGORIAN
BEGIN:VEVENT
DTSTART:20210619T133000Z
DTEND:20210619T153000Z
X-MICROSOFT-CDO-ALLDAYEVENT:FALSE
SUMMARY:Birds of Midewin National Tallgrass Prairie (West side tours)
DESCRIPTION:You might see loggerhead shrikes\, Henslow's sparrows\, bobolinks\, grasshopper sparrows\, meadowlarks\, blue grosbeaks\, orioles\, warblers\, vireos and more! Find out why Midewin National Tallgrass Prairie has been called: "a haven for bird-watchers!" Register by: SM.FS.Midewin_RSVP@usda.gov or call 815 423-6370. Photo by: Rich Hickson
X-ALT-DESC;FMTTYPE=text/html:You might see loggerhead shrikes\, Henslow&#39\;s sparrows\, bobolinks\, grasshopper sparrows\, meadowlarks\, blue grosbeaks\, orioles\, warblers\, vireos and more! Find out why Midewin National Tallgrass Prairie has been called: &ldquo\;a haven for bird-watchers!&rdquo\; Register by: SM.FS.Midewin_RSVP@usda.gov or call 815 423-6370. Photo by: Rich Hickson
LOCATION:Midewin National Tallgrass Prairie 30239 S State Route 53 Wilmington\, IL 60481
UID:e.771.3642
SEQUENCE:3
DTSTAMP:20260419T213318Z
URL:https://business.kankakeecountychamber.com/events/details/birds-of-midewin-national-tallgrass-prairie-west-side-tours-06-19-2021-3642
END:VEVENT

END:VCALENDAR
