BEGIN:VCALENDAR
VERSION:2.0
PRODID:-//ChamberMaster//Event Calendar 2.0//EN
METHOD:PUBLISH
X-PUBLISHED-TTL:P3D
REFRESH-INTERVAL:P3D
CALSCALE:GREGORIAN
BEGIN:VEVENT
DTSTART:20190910T223000Z
DTEND:20190910T233000Z
X-MICROSOFT-CDO-ALLDAYEVENT:FALSE
SUMMARY:Black Business Council - How to Write Your Business Plan Part 1
DESCRIPTION:
X-ALT-DESC;FMTTYPE=text/html:
LOCATION:
UID:e.771.2617
SEQUENCE:3
DTSTAMP:20260423T020808Z
URL:https://business.kankakeecountychamber.com/events/details/black-business-council-how-to-write-your-business-plan-part-1-2617
END:VEVENT

END:VCALENDAR
