BEGIN:VCALENDAR
VERSION:2.0
PRODID:-//ChamberMaster//Event Calendar 2.0//EN
METHOD:PUBLISH
X-PUBLISHED-TTL:P3D
REFRESH-INTERVAL:P3D
CALSCALE:GREGORIAN
BEGIN:VEVENT
DTSTART:20191112T233000Z
DTEND:20191113T003000Z
X-MICROSOFT-CDO-ALLDAYEVENT:FALSE
SUMMARY:Black Business Council - Tips for Being a Healthy Business Owner
DESCRIPTION:
X-ALT-DESC;FMTTYPE=text/html:
LOCATION:
UID:e.771.2622
SEQUENCE:3
DTSTAMP:20260422T233018Z
URL:https://business.kankakeecountychamber.com/events/details/black-business-council-tips-for-being-a-healthy-business-owner-2622
END:VEVENT

END:VCALENDAR
