BEGIN:VCALENDAR
VERSION:2.0
PRODID:-//ChamberMaster//Event Calendar 2.0//EN
METHOD:PUBLISH
X-PUBLISHED-TTL:P3D
REFRESH-INTERVAL:P3D
CALSCALE:GREGORIAN
BEGIN:VEVENT
DTSTART:20240425T150000Z
DTEND:20240425T190000Z
X-MICROSOFT-CDO-ALLDAYEVENT:FALSE
SUMMARY:Blood Drive
DESCRIPTION:Kankakee Community College Blood Drive!\n\n\n\nAppointments appreciated\, but walk ins are welcome. To schedule go to www.versiti.org/IL\, load the Versiti donor app\, or call (800)7TO-GIVE.\n\n\n\nSave lives while saving the planet. All donors with a valid email who complete a redemtion form will receive a link and tree ID planted in honor of their donation. Visit versiti.org/onetree.\n\n\n\nMake sure to eat a healthy meal and drink plenty of water before donating.
X-ALT-DESC;FMTTYPE=text/html:Kankakee Community College Blood Drive!<br />\n<br />\nAppointments appreciated\, but walk ins are welcome. To schedule go to www.versiti.org/IL\, load the Versiti donor app\, or call (800)7TO-GIVE.<br />\n<br />\nSave lives while saving the planet. All donors with a valid email who complete a redemtion form will receive a link and tree ID planted in honor of their donation. Visit versiti.org/onetree.<br />\n<br />\nMake sure to eat a healthy meal and drink plenty of water before donating.
LOCATION:Kankakee Community College Iroquois Room D152 100 College Drive Kankakee IL 60901
UID:e.771.4853
SEQUENCE:3
DTSTAMP:20260419T164100Z
URL:https://business.kankakeecountychamber.com/events/details/blood-drive-4853
END:VEVENT

END:VCALENDAR
