BEGIN:VCALENDAR
VERSION:2.0
PRODID:-//ChamberMaster//Event Calendar 2.0//EN
METHOD:PUBLISH
X-PUBLISHED-TTL:P3D
REFRESH-INTERVAL:P3D
CALSCALE:GREGORIAN
BEGIN:VEVENT
DTSTART:20200303T170000Z
DTEND:20200303T183000Z
X-MICROSOFT-CDO-ALLDAYEVENT:FALSE
SUMMARY:Bradley School District: Open House
DESCRIPTION:Calling all community stakeholders!\n\nCome see the new Training Center at Bradley School District 61.\n\nLight lunch will be served.
X-ALT-DESC;FMTTYPE=text/html:Calling all community stakeholders!<br />\nCome see the new Training Center at Bradley School District 61.<br />\nLight lunch will be served.&nbsp\;
LOCATION:111 N Crosswell Ave Bradley\, IL 60915
UID:e.771.3339
SEQUENCE:3
DTSTAMP:20260422T193655Z
URL:https://business.kankakeecountychamber.com/events/details/bradley-school-district-open-house-3339
END:VEVENT

END:VCALENDAR
