BEGIN:VCALENDAR
VERSION:2.0
PRODID:-//ChamberMaster//Event Calendar 2.0//EN
METHOD:PUBLISH
X-PUBLISHED-TTL:P3D
REFRESH-INTERVAL:P3D
CALSCALE:GREGORIAN
BEGIN:VEVENT
DTSTART:20230321T163000Z
DTEND:20230321T180000Z
X-MICROSOFT-CDO-ALLDAYEVENT:FALSE
SUMMARY:Branding and Human Resources: Driving Your Brand Throughout the Entire Organization\, and Beyond
DESCRIPTION:Andy Wheeler has a strong brand: He a marketing disruptor and takes action. An entrepreneurial and innovative leader with a strategic mindset in Product and Brand Development\, team building\, strategy\, execution and marketing in B2B and B2C sectors\, Andy is a leader who generates revenue by driving ROI throughout the entire organization.
X-ALT-DESC;FMTTYPE=text/html:Andy Wheeler has a strong brand: He a marketing disruptor and takes action. An entrepreneurial and innovative leader with a strategic mindset in Product and Brand Development\, team building\, strategy\, execution and marketing in B2B and B2C sectors\, Andy is a leader who generates revenue by driving ROI throughout the entire organization.
LOCATION:Olivet Nazarene University Weber Center- Leadership Room 1st Floor\, 1 University Ave Bourbonnais\, IL 60914
UID:e.771.4577
SEQUENCE:3
DTSTAMP:20260420T031039Z
URL:https://business.kankakeecountychamber.com/events/details/branding-and-human-resources-driving-your-brand-throughout-the-entire-organization-and-beyond-4577
END:VEVENT

END:VCALENDAR
