BEGIN:VCALENDAR
VERSION:2.0
PRODID:-//ChamberMaster//Event Calendar 2.0//EN
METHOD:PUBLISH
X-PUBLISHED-TTL:P3D
REFRESH-INTERVAL:P3D
CALSCALE:GREGORIAN
BEGIN:VEVENT
DTSTART:20200123T223000Z
DTEND:20200124T000000Z
X-MICROSOFT-CDO-ALLDAYEVENT:FALSE
SUMMARY:Business After Hours - Country Financial\, Sarah Viall
DESCRIPTION:Join us for Business After Hours at County Financial with Sarah Viall! You will have the opportunity to network and to learn more about Country Financial.
X-ALT-DESC;FMTTYPE=text/html:Join us for Business After Hours at County Financial with Sarah Viall! You will have the opportunity to network and to learn more about Country Financial.&nbsp\;
LOCATION:Country Financial 66 N Oak St. Manteno\, IL 60950
UID:e.771.3044
SEQUENCE:3
DTSTAMP:20260422T205707Z
URL:https://business.kankakeecountychamber.com/events/details/business-after-hours-country-financial-sarah-viall-3044
END:VEVENT

END:VCALENDAR
