BEGIN:VCALENDAR
VERSION:2.0
PRODID:-//ChamberMaster//Event Calendar 2.0//EN
METHOD:PUBLISH
X-PUBLISHED-TTL:P3D
REFRESH-INTERVAL:P3D
CALSCALE:GREGORIAN
BEGIN:VEVENT
DTSTART:20200212T133000Z
DTEND:20200212T143000Z
X-MICROSOFT-CDO-ALLDAYEVENT:FALSE
SUMMARY:Business Before Hours - AMITA Health St. Mary's Hospital
DESCRIPTION:Join us for networking at AMITA St. Mary's Hosptial Outpatient Physical Therapy center!
X-ALT-DESC;FMTTYPE=text/html:Join us for networking at AMITA St. Mary&#39\;s Hosptial Outpatient Physical Therapy center!
LOCATION:AMITA St. Mary's Hosptial Outpatient Physical Therapy Center. 21 Heritage Dr. #101\, Bourbonnais\, IL 60914
UID:e.771.3045
SEQUENCE:3
DTSTAMP:20260422T194733Z
URL:https://business.kankakeecountychamber.com/events/details/business-before-hours-amita-health-st-mary-s-hospital-3045
END:VEVENT

END:VCALENDAR
