BEGIN:VCALENDAR
VERSION:2.0
PRODID:-//ChamberMaster//Event Calendar 2.0//EN
METHOD:PUBLISH
X-PUBLISHED-TTL:P3D
REFRESH-INTERVAL:P3D
CALSCALE:GREGORIAN
BEGIN:VEVENT
DTSTART:20191002T123000Z
DTEND:20191002T133000Z
X-MICROSOFT-CDO-ALLDAYEVENT:FALSE
SUMMARY:Business Before Hours - BTPD Scarecrow Hollow
DESCRIPTION:Join us for a fall themed Business Before Hours\, including breakfast\, coffee\, and networking at Perry Farm barn! You will also have the chance to see all the scarecrows on the Perry Farm fence.
X-ALT-DESC;FMTTYPE=text/html:Join us for a fall themed Business Before Hours\, including breakfast\, coffee\, and networking at Perry Farm barn! You will also have the chance to see all the scarecrows on the Perry Farm fence.&nbsp\;
LOCATION:Perry Farm
UID:e.771.2620
SEQUENCE:3
DTSTAMP:20260423T003729Z
URL:https://business.kankakeecountychamber.com/events/details/business-before-hours-btpd-scarecrow-hollow-2620
END:VEVENT

END:VCALENDAR
