BEGIN:VCALENDAR
VERSION:2.0
PRODID:-//ChamberMaster//Event Calendar 2.0//EN
METHOD:PUBLISH
X-PUBLISHED-TTL:P3D
REFRESH-INTERVAL:P3D
CALSCALE:GREGORIAN
BEGIN:VEVENT
DTSTART:20190920T123000Z
DTEND:20190920T133000Z
X-MICROSOFT-CDO-ALLDAYEVENT:FALSE
SUMMARY:Business Before Hours - FastSigns of Kankakee
DESCRIPTION:
X-ALT-DESC;FMTTYPE=text/html:
LOCATION:
UID:e.771.2596
SEQUENCE:3
DTSTAMP:20260423T020753Z
URL:https://business.kankakeecountychamber.com/events/details/business-before-hours-fastsigns-of-kankakee-2596
END:VEVENT

END:VCALENDAR
