BEGIN:VCALENDAR
VERSION:2.0
PRODID:-//ChamberMaster//Event Calendar 2.0//EN
METHOD:PUBLISH
X-PUBLISHED-TTL:P3D
REFRESH-INTERVAL:P3D
CALSCALE:GREGORIAN
BEGIN:VEVENT
DTSTART:20210722T120000Z
DTEND:20210722T130000Z
X-MICROSOFT-CDO-ALLDAYEVENT:FALSE
SUMMARY:Business Before Hours: Olivet Nazarene University
DESCRIPTION:Description:Description: Please join us at Olivet Nazarene University on July 22nd. The BBH will be from 7-8am with remarks at 7:30am. Come introduce yourself to the new University President\, Dr. Gregg Chenoweth. Light refreshments will be served. Please invite anyone to attend. Please join us at Olivet Nazarene University on July 22nd. The BBH will be from 7-8am with remarks at 7:30am. Come introduce yourself to the new University President\, Dr. Gregg Chenoweth. Light refreshments will be served. ALSO! Please invite anyone to come as well!
X-ALT-DESC;FMTTYPE=text/html:<span class="ynRLnc" style="clip: rect(1px\, 1px\, 1px\, 1px)\; height: 1px\; overflow: hidden\; position: absolute\; white-space: nowrap\; width: 1px\; color: rgb(60\, 64\, 67)\; font-family: Roboto\, Arial\, sans-serif\; font-size: 14px\; letter-spacing: 0.2px\;">Description:Description:</span> Please join us at Olivet Nazarene University on July 22nd. The BBH will be from 7-8am with remarks at 7:30am. Come introduce yourself to the new University President\, Dr. Gregg Chenoweth. Light refreshments will be served. Please invite anyone to attend.&nbsp\;<span class="ynRLnc" style="clip: rect(1px\, 1px\, 1px\, 1px)\; height: 1px\; overflow: hidden\; position: absolute\; white-space: nowrap\; width: 1px\; color: rgb(60\, 64\, 67)\; font-family: Roboto\, Arial\, sans-serif\; font-size: 14px\; letter-spacing: 0.2px\;"><span style="color: rgb(51\, 51\, 51)\; font-family: sans-serif\, Arial\, Verdana\, &quot\;Trebuchet MS&quot\;\; font-size: 13px\;">Please join us at Olivet Nazarene University on July 22nd. The BBH will be from 7-8am with remarks at 7:30am. Come introduce yourself to the new University President\, Dr. Gregg Chenoweth. Light refreshments will be served. ALSO! Please invite anyone to come as well!</span></span>
LOCATION:ONU Perry Student Life & Recreation CenterONUDescription:
UID:e.771.3675
SEQUENCE:3
DTSTAMP:20260419T195113Z
URL:https://business.kankakeecountychamber.com/events/details/business-before-hours-olivet-nazarene-university-3675
END:VEVENT

END:VCALENDAR
