BEGIN:VCALENDAR
VERSION:2.0
PRODID:-//ChamberMaster//Event Calendar 2.0//EN
METHOD:PUBLISH
X-PUBLISHED-TTL:P3D
REFRESH-INTERVAL:P3D
CALSCALE:GREGORIAN
BEGIN:VEVENT
DTSTART:20210107T140000Z
DTEND:20210107T150000Z
X-MICROSOFT-CDO-ALLDAYEVENT:FALSE
SUMMARY:Business Before Hours- VIRTUAL EVENT
DESCRIPTION:Join Us for a members only virtual networking event\n\nThis event is free to members of the Kankakee County Chamber of Commerce  Following registration you will be emailed a ZOOM link.\n\n\n\nRegistrants will have 2 minutes to share.  Limited to the first 25 registrants.  Suggestions are:\n\n	Who you are\n	Where your business is located\n	What product or service do you provide\n	Why do you provide that product or service/Unique selling proposition\n	Has your business been impacted by the pandemic\n	If so\, what have you done that has helped you survive or thrive\n\n\n\nIf you have any questions during registration\, please reach out to the Chamber at info@kankakeecountychamber.com or 815-351-9068
X-ALT-DESC;FMTTYPE=text/html:<strong><span style="font-size:14px\;">Join Us for a members only virtual networking event</span></strong><br />\nThis event is free to members of the Kankakee County Chamber of Commerce&nbsp\; Following registration you will be emailed a ZOOM link.<br />\n<br />\nRegistrants will have 2 minutes to share.&nbsp\; Limited to the first 25 registrants.&nbsp\; Suggestions are:\n<ul>\n	<li>Who you are</li>\n	<li>Where your business is located</li>\n	<li>What product or service do you provide</li>\n	<li>Why do you provide that product or service/Unique selling proposition</li>\n	<li>Has your business been impacted by the pandemic</li>\n	<li>If so\, what have you done that has helped you survive or thrive</li>\n</ul>\n<br />\nIf you have any questions during registration\, please reach out to the Chamber at info@kankakeecountychamber.com or 815-351-9068<br />\n<br />\n<br />\n<br />\n&nbsp\;
LOCATION:ZOOM
UID:e.771.3535
SEQUENCE:3
DTSTAMP:20260420T054703Z
URL:https://business.kankakeecountychamber.com/events/details/business-before-hours-virtual-event-3535
END:VEVENT

END:VCALENDAR
