BEGIN:VCALENDAR
VERSION:2.0
PRODID:-//ChamberMaster//Event Calendar 2.0//EN
METHOD:PUBLISH
X-PUBLISHED-TTL:P3D
REFRESH-INTERVAL:P3D
CALSCALE:GREGORIAN
BEGIN:VEVENT
DTSTART:20191108T150000Z
DTEND:20191108T180000Z
X-MICROSOFT-CDO-ALLDAYEVENT:FALSE
SUMMARY:Business Bootcamp for Entrepreneurs
DESCRIPTION:Business Boot Camp is a way to better learn and lay the foundation for your business that will serve you for years to come and leads to less levels of bitterness\, burnout and resentment. This is a must for those just starting out in the entrepreneurial world\, fairly new in their industry and wanting to avoid the common pitfalls (if possible) and even those that have been building for years who feel there is a lack of alignment within their business and need some reflection\, straight talk & guidance.
X-ALT-DESC;FMTTYPE=text/html:Business Boot Camp is a way to better learn and lay the foundation for your business that will serve you for years to come and leads to less levels of bitterness\, burnout and resentment. This is a must for those just starting out in the entrepreneurial world\, fairly new in their industry and wanting to avoid the common pitfalls (if possible) and even those that have been building for years who feel there is a lack of alignment within their business and need some reflection\, straight talk &amp\; guidance.
LOCATION:Kankakee Community College
UID:e.771.2968
SEQUENCE:3
DTSTAMP:20260422T232303Z
URL:https://business.kankakeecountychamber.com/events/details/business-bootcamp-for-entrepreneurs-2968
END:VEVENT

END:VCALENDAR
