BEGIN:VCALENDAR
VERSION:2.0
PRODID:-//ChamberMaster//Event Calendar 2.0//EN
METHOD:PUBLISH
X-PUBLISHED-TTL:P3D
REFRESH-INTERVAL:P3D
CALSCALE:GREGORIAN
BEGIN:VEVENT
DTSTART:20251009T150000Z
DTEND:20251009T173000Z
X-MICROSOFT-CDO-ALLDAYEVENT:FALSE
SUMMARY:Cafe of Mistaken Orders TM
DESCRIPTION:The Cafe of Mistaken Orders  is not your typical dining experience. Here\, guests are served by individuals living with dementia.\n \n\n\nYes\, your order might be "mistaken" but that's the point. Every mix-up is a moment to celebrate connection over perfection\, and to remind us that dignity isn't defined by cognitive ability\, but by compassion. This is more than a meal. It's an experience\, it's a movement! A living\, breathing reflection of Our Aging Services' mission: to advocate with kindness and create spaces where everyone regardless of age or ability can live with purpose\, joy\, and belonging by serving kindness\, one mistake at a time.\n\nSeating Times: 10am\, and 11:30am.
X-ALT-DESC;FMTTYPE=text/html:The Cafe of Mistaken Orders&trade\; is not your typical dining experience. Here\, guests are served by individuals living with dementia.\n<div>&nbsp\;</div>\n\n<div>\n<p>Yes\, your order might be &ldquo\;mistaken&rdquo\;&mdash\;but that&rsquo\;s the point. Every mix-up is a moment to celebrate connection over perfection\, and to remind us that dignity isn&rsquo\;t defined by cognitive ability\, but by compassion. This is more than a meal. It&rsquo\;s an experience\, it&#39\;s a movement! A living\, breathing reflection of Our Aging Services&rsquo\; mission: to advocate with kindness and create spaces where everyone&mdash\;regardless of age or ability&mdash\;can live with purpose\, joy\, and belonging by serving kindness\, one mistake at a time.</p>\n\n<p>Seating Times: 10am\, and 11:30am.</p>\n</div>\n
LOCATION:Knights of Columbus 187 S Indiana St. Kankakee\, IL 60901
UID:e.771.5418
SEQUENCE:3
DTSTAMP:20260423T134536Z
URL:https://business.kankakeecountychamber.com/events/details/cafe-of-mistaken-orders-tm-5418
END:VEVENT

END:VCALENDAR
