BEGIN:VCALENDAR
VERSION:2.0
PRODID:-//ChamberMaster//Event Calendar 2.0//EN
METHOD:PUBLISH
X-PUBLISHED-TTL:P3D
REFRESH-INTERVAL:P3D
CALSCALE:GREGORIAN
BEGIN:VEVENT
DTSTART:20260118T210000Z
DTEND:20260119T000000Z
X-MICROSOFT-CDO-ALLDAYEVENT:FALSE
SUMMARY:Celebrate the birthday of Dr. Martin Luther King Jr.
DESCRIPTION:Come and celebrate the birthday of Dr. Martin Luther King Jr. January 18\, 2026 at 3 PM. Place Asbury United Methodist Church 196 S. Harrison Ave.\, Kankakee\, IL .\n\n\n\nCoretta Scott King proudly presents a Gospel Concert in honor of her husband\, Dr. King. With a Music  Award\,and a Lifetime Achievement Award . Many local artists and musicians  will be Present..\n\nPlease come and support this event all Funds go to the Dr. Martin Luther King Jr. SCHOLARSHIPS.
X-ALT-DESC;FMTTYPE=text/html:<span style="color: rgb(34\, 34\, 34)\; font-family: Arial\, Helvetica\, sans-serif\; font-size: small\;">Come and celebrate the birthday of Dr. Martin Luther King Jr. January 18\, 2026 at 3 PM. Place Asbury United Methodist Church 196 S. Harrison Ave.\, Kankakee\, IL .</span><br style="color: rgb(34\, 34\, 34)\; font-family: Arial\, Helvetica\, sans-serif\; font-size: small\;" />\n<br style="color: rgb(34\, 34\, 34)\; font-family: Arial\, Helvetica\, sans-serif\; font-size: small\;" />\n<span style="color: rgb(34\, 34\, 34)\; font-family: Arial\, Helvetica\, sans-serif\; font-size: small\;">Coretta Scott King proudly presents a Gospel Concert in honor of her husband\, Dr. King. With a Music&nbsp\; Award\,and a Lifetime Achievement Award . Many local artists and musicians&nbsp\; will be Present..</span><br style="color: rgb(34\, 34\, 34)\; font-family: Arial\, Helvetica\, sans-serif\; font-size: small\;" />\n<span style="color: rgb(34\, 34\, 34)\; font-family: Arial\, Helvetica\, sans-serif\; font-size: small\;">Please come and support this event all Funds go to the Dr. Martin Luther King Jr. SCHOLARSHIPS.</span><br />\n<br />\n&nbsp\;
LOCATION:Asbury United Methodist Church 196 S. Harrison Ave.\, Kankakee\, IL .
UID:e.771.5493
SEQUENCE:3
DTSTAMP:20260423T100504Z
URL:https://business.kankakeecountychamber.com/events/details/celebrate-the-birthday-of-dr-martin-luther-king-jr-5493
END:VEVENT

END:VCALENDAR
