BEGIN:VCALENDAR
VERSION:2.0
PRODID:-//ChamberMaster//Event Calendar 2.0//EN
METHOD:PUBLISH
X-PUBLISHED-TTL:P3D
REFRESH-INTERVAL:P3D
CALSCALE:GREGORIAN
BEGIN:VEVENT
DTSTART:20260123T160000Z
DTEND:20260123T170000Z
X-MICROSOFT-CDO-ALLDAYEVENT:FALSE
SUMMARY:Chit Chat Coffee Club
DESCRIPTION:INTRODUCING  the Chit-Chat Coffee Club! Every fourth Friday of the month from 10 to 11 am\, adults are invited to learn something new from a community organization\, chat with friends\, and work on busy booklets together (crossword\, wordsearch\, and other puzzles). Coffee and light snacks will be provided. During our first club meeting\, come prepared to share the kinds of information you're interested in learning about from experts in our community! Please register on our website.
X-ALT-DESC;FMTTYPE=text/html:INTRODUCING&hellip\; the Chit-Chat Coffee Club! Every fourth Friday of the month from 10 to 11 am\, adults are invited to learn something new from a community organization\, chat with friends\, and work on busy booklets together (crossword\, wordsearch\, and other puzzles). Coffee and light snacks will be provided. During our first club meeting\, come prepared to share the kinds of information you&rsquo\;re interested in learning about from experts in our community! Please register on our website.&nbsp\;
LOCATION:
UID:e.771.5485
SEQUENCE:3
DTSTAMP:20260423T095143Z
URL:https://business.kankakeecountychamber.com/events/details/chit-chat-coffee-club-5485
END:VEVENT

END:VCALENDAR
