BEGIN:VCALENDAR
VERSION:2.0
PRODID:-//ChamberMaster//Event Calendar 2.0//EN
METHOD:PUBLISH
X-PUBLISHED-TTL:P3D
REFRESH-INTERVAL:P3D
CALSCALE:GREGORIAN
BEGIN:VEVENT
DTSTART:20251206T160000Z
DTEND:20251206T200000Z
X-MICROSOFT-CDO-ALLDAYEVENT:FALSE
SUMMARY:Christmas on the Farm
DESCRIPTION:Saturday\, December 6 Perry Farm Park ? 10:00 am   2:00 pm Get ready for a jolly good time at Christmas on the Farm! We're bringing the holiday magic to the farm with activities\, treats\, and plenty of merry moments. Stay tuned it's going to be a farm-tastic celebration!
X-ALT-DESC;FMTTYPE=text/html:Saturday\, December 6 Perry Farm Park ? 10:00 am &ndash\; 2:00 pm Get ready for a jolly good time at Christmas on the Farm! We&rsquo\;re bringing the holiday magic to the farm with activities\, treats\, and plenty of merry moments. Stay tuned&mdash\;it&rsquo\;s going to be a farm-tastic celebration!
LOCATION:Perry Farm Park
UID:e.771.5458
SEQUENCE:3
DTSTAMP:20260423T110310Z
URL:https://business.kankakeecountychamber.com/events/details/christmas-on-the-farm-5458
END:VEVENT

END:VCALENDAR
