BEGIN:VCALENDAR
VERSION:2.0
PRODID:-//ChamberMaster//Event Calendar 2.0//EN
METHOD:PUBLISH
X-PUBLISHED-TTL:P3D
REFRESH-INTERVAL:P3D
CALSCALE:GREGORIAN
BEGIN:VEVENT
DTSTART:20251213T000000Z
DTEND:20251213T060000Z
X-MICROSOFT-CDO-ALLDAYEVENT:FALSE
SUMMARY:CIRKA\, Still I Rise\, and Good Vibrations Bar & Restaurant Winter Donation Drive
DESCRIPTION:CIRKA\, Still I Rise\, and Good Vibrations Bar & Restaurant are joining forces this winter to spread warmth and kindness! We're collecting blankets\, socks\, hats\, gloves\, hand warmers\, hygiene products\, baby diapers\, wipes\, formula\, and any other cozy essentials to help those in need this season. Come hang out with live music from Tocarra & Beeso and Friends and Good Vibrations serving up delicious food and drinks all evening long. Let's make a difference together. Bring your donations\, bring your friends\, and bring your good vibes.
X-ALT-DESC;FMTTYPE=text/html:CIRKA\, Still I Rise\, and Good Vibrations Bar &amp\; Restaurant are joining forces this winter to spread warmth and kindness! We&rsquo\;re collecting blankets\, socks\, hats\, gloves\, hand warmers\, hygiene products\, baby diapers\, wipes\, formula\, and any other cozy essentials to help those in need this season. Come hang out with live music from Tocarra &amp\; Beeso and Friends and Good Vibrations serving up delicious food and drinks all evening long. Let&rsquo\;s make a difference together. Bring your donations\, bring your friends\, and bring your good vibes.
LOCATION:Good Vibrations Bar & Restaurant
UID:e.771.5468
SEQUENCE:3
DTSTAMP:20260423T111249Z
URL:https://business.kankakeecountychamber.com/events/details/cirka-still-i-rise-and-good-vibrations-bar-restaurant-winter-donation-drive-5468
END:VEVENT

END:VCALENDAR
