BEGIN:VCALENDAR
VERSION:2.0
PRODID:-//ChamberMaster//Event Calendar 2.0//EN
METHOD:PUBLISH
X-PUBLISHED-TTL:P3D
REFRESH-INTERVAL:P3D
CALSCALE:GREGORIAN
BEGIN:VEVENT
DTSTART:20210428T223000Z
DTEND:20210428T233000Z
X-MICROSOFT-CDO-ALLDAYEVENT:FALSE
SUMMARY:Community Commission to End Domestic Violence Meeting
DESCRIPTION:The primary purpose of the Community Commission to End Domestic Violence is to activate the community to join the movement against domestic violence in order to create safer\, stronger communities. Harbor House's mission is to empower individuals\, families and communities by providing domestic violence services\, advocacy and prevention. This Commission brings the mission to life. Go to harborhousedv.org/events to register.
X-ALT-DESC;FMTTYPE=text/html:The primary purpose of the Community Commission to End Domestic Violence is to activate the community to join the movement against domestic violence in order to create safer\, stronger communities. Harbor House&rsquo\;s mission is to empower individuals\, families and communities by providing domestic violence services\, advocacy and prevention. This Commission brings the mission to life. Go to harborhousedv.org/events to register.
LOCATION:
UID:e.771.3644
SEQUENCE:3
DTSTAMP:20260420T000725Z
URL:https://business.kankakeecountychamber.com/events/details/community-commission-to-end-domestic-violence-meeting-3644
END:VEVENT

END:VCALENDAR
