BEGIN:VCALENDAR
VERSION:2.0
PRODID:-//ChamberMaster//Event Calendar 2.0//EN
METHOD:PUBLISH
X-PUBLISHED-TTL:P3D
REFRESH-INTERVAL:P3D
CALSCALE:GREGORIAN
BEGIN:VEVENT
DTSTART:20211124T230000Z
DTEND:20211125T020000Z
X-MICROSOFT-CDO-ALLDAYEVENT:FALSE
SUMMARY:Community Thanksgiving Dinner
DESCRIPTION:Community Thanksgiving Dinner. Open to everyone. Come enjoy a hot meal at Uplifted and give thansk fro our community
X-ALT-DESC;FMTTYPE=text/html:Community Thanksgiving Dinner. Open to everyone. Come enjoy a hot meal at Uplifted and give thansk fro our community<br />\n<br />\n&nbsp\;
LOCATION:270 South Schuyler Ave in Bradley
UID:e.771.3783
SEQUENCE:3
DTSTAMP:20260419T150957Z
URL:https://business.kankakeecountychamber.com/events/details/community-thanksgiving-dinner-3783
END:VEVENT

END:VCALENDAR
