BEGIN:VCALENDAR
VERSION:2.0
PRODID:-//ChamberMaster//Event Calendar 2.0//EN
METHOD:PUBLISH
X-PUBLISHED-TTL:P3D
REFRESH-INTERVAL:P3D
CALSCALE:GREGORIAN
BEGIN:VEVENT
DTSTART:20230517T140000Z
DTEND:20230517T170000Z
X-MICROSOFT-CDO-ALLDAYEVENT:FALSE
SUMMARY:Continuous Improvement
DESCRIPTION:You will learn the seven wastes that typically exist in business processes\, and how to minimize waste in your area of operation.
X-ALT-DESC;FMTTYPE=text/html:You will learn the seven wastes that typically exist in business processes\, and how to minimize waste in your area of operation.
LOCATION:KCC Riverfront Room D124
UID:e.771.4583
SEQUENCE:3
DTSTAMP:20260420T000343Z
URL:https://business.kankakeecountychamber.com/events/details/continuous-improvement-4583
END:VEVENT

END:VCALENDAR
