BEGIN:VCALENDAR
VERSION:2.0
PRODID:-//ChamberMaster//Event Calendar 2.0//EN
METHOD:PUBLISH
X-PUBLISHED-TTL:P3D
REFRESH-INTERVAL:P3D
CALSCALE:GREGORIAN
BEGIN:VEVENT
DTSTART:20210204T180000Z
DTEND:20210204T183000Z
X-MICROSOFT-CDO-ALLDAYEVENT:FALSE
SUMMARY:COVID- 19 Vaccine Webinar
DESCRIPTION:Thursday\, February 4th\, 12pm \n\nAsk the Experts: COVID-19 Vaccine Webinar \n\nGuest speakers: \n\n\n	Phillip M. Kambic\, President and CEO\, Riverside Healthcare \n	Kathy O'Grady\, RN\, MSN\, Vice President of Clinical Services \n	LaTivia Carr\, RN\, MSN\, NEA-BC\, Vice President\, Chief Nursing Officer \n\n\n\nGet questions answered about the COVID-19 vaccine. Riverside Healthcare's team will provide chamber members with an overview of the vaccine including the status of the rollout at local hospitals. They will discuss the effectiveness of the vaccine\, differences between the two approved vaccines and known side effects. Most importantly\, they will host a live Q & A to answer any of your questions.
X-ALT-DESC;FMTTYPE=text/html:<div>\n<div><strong>Thursday\, February 4th\, 12pm</strong>&nbsp\;</div>\n\n<div><span style="font-size:16px\;"><strong>Ask the Experts: COVID-19 Vaccine Webinar&nbsp\;</strong></span></div>\n\n<div>Guest speakers:&nbsp\;</div>\n\n<ul>\n	<li>Phillip M. Kambic\, President and CEO\, Riverside Healthcare&nbsp\;</li>\n	<li>Kathy O&#39\;Grady\, RN\, MSN\, Vice President of Clinical Services&nbsp\;</li>\n	<li>LaTivia Carr\, RN\, MSN\, NEA-BC\, Vice President\, Chief Nursing Officer&nbsp\;</li>\n</ul>\n</div>\n\n<div>Get questions answered about the COVID-19 vaccine.&nbsp\;Riverside Healthcare&#39\;s team will provide chamber members&nbsp\;with an overview of the vaccine including the status of the rollout&nbsp\;at local hospitals. They will discuss the effectiveness of the vaccine\, differences between the two approved vaccines and known side effects. Most importantly\, they will host a live Q &amp\; A to answer any of&nbsp\;your questions.&nbsp\;</div>\n
LOCATION:Zoom webinar
UID:e.771.3591
SEQUENCE:3
DTSTAMP:20260420T042522Z
URL:https://business.kankakeecountychamber.com/events/details/covid-19-vaccine-webinar-3591
END:VEVENT

END:VCALENDAR
