BEGIN:VCALENDAR
VERSION:2.0
PRODID:-//ChamberMaster//Event Calendar 2.0//EN
METHOD:PUBLISH
X-PUBLISHED-TTL:P3D
REFRESH-INTERVAL:P3D
CALSCALE:GREGORIAN
BEGIN:VEVENT
DTSTART:20211011T233000Z
DTEND:20211012T003000Z
X-MICROSOFT-CDO-ALLDAYEVENT:FALSE
SUMMARY:Crazy Love by Leslie Morgan Steiner book discussion
DESCRIPTION:Join us as we explore the complexities of domestic violence while we discuss the book Crazy Love by Leslie Morgan Steiner in honor of Domestic Violence Awareness Month.
X-ALT-DESC;FMTTYPE=text/html:Join us as we explore the complexities of domestic violence while we discuss the book Crazy Love by Leslie Morgan Steiner in honor of Domestic Violence Awareness Month.
LOCATION:296 N Fulton Ave\, Bradley\, IL 60915
UID:e.771.3774
SEQUENCE:3
DTSTAMP:20260419T164743Z
URL:https://business.kankakeecountychamber.com/events/details/crazy-love-by-leslie-morgan-steiner-book-discussion-3774
END:VEVENT

END:VCALENDAR
