BEGIN:VCALENDAR
VERSION:2.0
PRODID:-//ChamberMaster//Event Calendar 2.0//EN
METHOD:PUBLISH
X-PUBLISHED-TTL:P3D
REFRESH-INTERVAL:P3D
CALSCALE:GREGORIAN
BEGIN:VEVENT
DTSTART:20300411T230000Z
DTEND:20300412T003000Z
X-MICROSOFT-CDO-ALLDAYEVENT:FALSE
SUMMARY:Crochet and Knitting Club
DESCRIPTION:Take time to work on your projects\, practice new stitches and brainstorm with others.
X-ALT-DESC;FMTTYPE=text/html:Take time to work on your projects\, practice new stitches and brainstorm with others.&nbsp\;
LOCATION:
UID:e.771.5705
SEQUENCE:3
DTSTAMP:20260426T012928Z
URL:https://business.kankakeecountychamber.com/events/details/crochet-and-knitting-club-04-11-2030-5705
END:VEVENT

END:VCALENDAR
