BEGIN:VCALENDAR
VERSION:2.0
PRODID:-//ChamberMaster//Event Calendar 2.0//EN
METHOD:PUBLISH
X-PUBLISHED-TTL:P3D
REFRESH-INTERVAL:P3D
CALSCALE:GREGORIAN
BEGIN:VEVENT
DTSTART:20191029T133000Z
DTEND:20191029T170000Z
X-MICROSOFT-CDO-ALLDAYEVENT:FALSE
SUMMARY:Dazed and Confused: Employer Concerns Regarding the New Marijuana Legislation
DESCRIPTION:Topics Include:\n\n	The differences between Illinois' medical marijuana law and recreational marijuana legislation. \n	Recreational legislation implications for employers\n	A review of OSHA's guidelines and regulations regarding post-incident drug testing\n	The latest developments regarding opiates in the workplace\n	How to implements a drug and alcohol testing policy\n\nPresenter: Aaron R. Gelb\, Partner of Conn Macial Carey LLP in Chicago\n\n\n\nChamber members\, use promo code CHAMBER10 for a $10 registration discount!
X-ALT-DESC;FMTTYPE=text/html:Topics Include:\n<ul>\n	<li>The differences between Illinois&#39\; medical marijuana law and recreational marijuana legislation.&nbsp\;</li>\n	<li>Recreational legislation implications for employers</li>\n	<li>A review of OSHA&#39\;s guidelines and regulations regarding post-incident drug testing</li>\n	<li>The latest developments regarding opiates in the workplace</li>\n	<li>How to implements a drug and alcohol testing policy</li>\n</ul>\nPresenter: Aaron R. Gelb\, Partner of Conn Macial Carey LLP in Chicago<br />\n<br />\nChamber members\, use promo code CHAMBER10 for a $10 registration discount!
LOCATION:Kankakee Community College 100 College Drive Kankakee\, IL 60901
UID:e.771.2990
SEQUENCE:3
DTSTAMP:20260423T003918Z
URL:https://business.kankakeecountychamber.com/events/details/dazed-and-confused-employer-concerns-regarding-the-new-marijuana-legislation-2990
END:VEVENT

END:VCALENDAR
