BEGIN:VCALENDAR
VERSION:2.0
PRODID:-//ChamberMaster//Event Calendar 2.0//EN
METHOD:PUBLISH
X-PUBLISHED-TTL:P3D
REFRESH-INTERVAL:P3D
CALSCALE:GREGORIAN
BEGIN:VEVENT
DTSTART:20230221T173000Z
DTEND:20230221T190000Z
X-MICROSOFT-CDO-ALLDAYEVENT:FALSE
SUMMARY:Development Planning for Success
DESCRIPTION:Speaker Lana Arndt\, SHRM-CP Overview: In this workshop\, participants will learn the benefits and importance of development planning for all levels of employees. Information and tools will be provided that can be used right away to create a robust and effective development plan to grow one's career. Lana Arndt\, SHRM-CP is Sr. Manager of Learning and Development at CSL Behring and has more than 15 years' experience in adult learning within Human Resources and Quality. She is passionate about partnering with HR and business leaders to invest in the development of employees and leaders. She holds a Bachelor's degree in Business Administration.
X-ALT-DESC;FMTTYPE=text/html:Speaker Lana Arndt\, SHRM-CP Overview: In this workshop\, participants will learn the benefits and importance of development planning for all levels of employees. Information and tools will be provided that can be used right away to create a robust and effective development plan to grow one&rsquo\;s career. Lana Arndt\, SHRM-CP is Sr. Manager of Learning and Development at CSL Behring and has more than 15 years&rsquo\; experience in adult learning within Human Resources and Quality. She is passionate about partnering with HR and business leaders to invest in the development of employees and leaders. She holds a Bachelor&rsquo\;s degree in Business Administration.
LOCATION:Olivet Nazarene University Weber Center- Leadership Room 1st Floor\, 1 University Ave Bourbonnais\, IL 60914
UID:e.771.4566
SEQUENCE:3
DTSTAMP:20260420T042333Z
URL:https://business.kankakeecountychamber.com/events/details/development-planning-for-success-4566
END:VEVENT

END:VCALENDAR
