BEGIN:VCALENDAR
VERSION:2.0
PRODID:-//ChamberMaster//Event Calendar 2.0//EN
METHOD:PUBLISH
X-PUBLISHED-TTL:P3D
REFRESH-INTERVAL:P3D
CALSCALE:GREGORIAN
BEGIN:VEVENT
DTSTART:20211120T010000Z
DTEND:20211121T200000Z
X-MICROSOFT-CDO-ALLDAYEVENT:FALSE
SUMMARY:Disney’s Beauty and Beast JR
DESCRIPTION:Kankakee Valley Theatre Association's Young People Theatre
X-ALT-DESC;FMTTYPE=text/html:Kankakee Valley Theatre Association&rsquo\;s Young People Theatre
LOCATION:Lincoln Cultural Center 240 Warren Ave Kankakee
UID:e.771.3784
SEQUENCE:3
DTSTAMP:20260419T151458Z
URL:https://business.kankakeecountychamber.com/events/details/disney-s-beauty-and-beast-jr-3784
END:VEVENT

END:VCALENDAR
