BEGIN:VCALENDAR
VERSION:2.0
PRODID:-//ChamberMaster//Event Calendar 2.0//EN
METHOD:PUBLISH
X-PUBLISHED-TTL:P3D
REFRESH-INTERVAL:P3D
CALSCALE:GREGORIAN
BEGIN:VEVENT
DTSTART:20210424T180000Z
DTEND:20210424T190000Z
X-MICROSOFT-CDO-ALLDAYEVENT:FALSE
SUMMARY:Earth Day Tour
DESCRIPTION:Earth Day Tour at theNate is an outdoor adventure\, annual tradition celebrating our love for the Earth\, ART\, and The Butterfly Ranch prairie restoration project. For more information please email sdenault@govst.edu \n\nSaturday\, April 24\n\n1pm
X-ALT-DESC;FMTTYPE=text/html:<span style="font-family:helvetica"><span style="font-size:10pt">Earth Day Tour at theNate is an outdoor adventure\, annual tradition celebrating our love for the Earth\, ART\, and The Butterfly Ranch prairie restoration project. For more information please email sdenault@govst.edu&nbsp\;</span></span><br />\n<strong>Saturday\, April 24</strong><br />\n<span style="font-family:calibri\,sans-serif"><span style="font-size:12pt"><span style="color:#000000">1pm</span></span></span><br />\n&nbsp\;
LOCATION:Nathan Manilow Sculpture Park\, 1 University Parkway\, University Park\, IL
UID:e.771.3599
SEQUENCE:3
DTSTAMP:20260420T000454Z
URL:https://business.kankakeecountychamber.com/events/details/earth-day-tour-3599
END:VEVENT

END:VCALENDAR
