BEGIN:VCALENDAR
VERSION:2.0
PRODID:-//ChamberMaster//Event Calendar 2.0//EN
METHOD:PUBLISH
X-PUBLISHED-TTL:P3D
REFRESH-INTERVAL:P3D
CALSCALE:GREGORIAN
BEGIN:VEVENT
DTSTART:20210412T143000Z
DTEND:20210412T203000Z
X-MICROSOFT-CDO-ALLDAYEVENT:FALSE
SUMMARY:Easter Brunch Buffet at The Bennett-Curtis House
DESCRIPTION:Don't wait to make your reservations- limited seating. Enjoy over 50 items: fresh pastries and fruits\, fully stocked salad bar\, breakfast station featuring homemade breakfast favorites\, lunch station featuring many different made from scratch entrees and sides\, carving station\, Chef made to order omelet station\, juice bar\, sweet station featuring our chocolate fountain and much more! Call for reservations and more information (815) 465-2288. \n\n\n\nHop to It! Reserve Now! (815) 465-2288\n\n\n\n**18% Service charge is added for groups of 6 or more\n\n**Reservation seating is limited to 1.5 hours \n\n**Pre-payment required for parties of 13 or more
X-ALT-DESC;FMTTYPE=text/html:<span style="background-color:rgb(255\, 255\, 255)\; color:rgb(75\, 79\, 86)\; font-family:gentium basic\; font-size:18px">Don&rsquo\;t wait to make your reservations- limited seating. Enjoy over 50 items: fresh pastries and fruits\, fully stocked salad bar\, breakfast station featuring homemade breakfast favorites\, lunch station featuring many different made from scratch entrees and sides\, carving station\, Chef made to order omelet station\, juice bar\, sweet station featuring our chocolate fountain and much more! Call for reservations and more information (815) 465-2288.&nbsp\;</span><br />\n<br />\n<span style="background-color:rgb(255\, 255\, 255)\; color:rgb(75\, 79\, 86)\; font-family:gentium basic\; font-size:18px">Hop to It! Reserve Now! (815) 465-2288</span><br />\n<br />\n<span style="background-color:rgb(255\, 255\, 255)\; color:rgb(81\, 81\, 81)\; font-family:gentium basic\; font-size:18px">**18% Service charge is added for groups of 6 or more</span><br />\n<span style="background-color:rgb(255\, 255\, 255)\; color:rgb(81\, 81\, 81)\; font-family:gentium basic\; font-size:18px">**Reservation seating is limited to 1.5 hours&nbsp\;</span><br />\n<span style="background-color:rgb(255\, 255\, 255)\; color:rgb(81\, 81\, 81)\; font-family:gentium basic\; font-size:18px">**Pre-payment required for parties of 13 or more&nbsp\;</span>
LOCATION:The Bennett-Curtis House 302 West Taylor Street Grant Park IL\, 60940
UID:e.771.3117
SEQUENCE:3
DTSTAMP:20260420T000703Z
URL:https://business.kankakeecountychamber.com/events/details/easter-brunch-buffet-at-the-bennett-curtis-house-04-12-2021-3117
END:VEVENT

END:VCALENDAR
