BEGIN:VCALENDAR
VERSION:2.0
PRODID:-//ChamberMaster//Event Calendar 2.0//EN
METHOD:PUBLISH
X-PUBLISHED-TTL:P3D
REFRESH-INTERVAL:P3D
CALSCALE:GREGORIAN
BEGIN:VEVENT
DTSTART;VALUE=DATE:20210401
DTEND;VALUE=DATE:20210402
TRANSP:TRANSPARENT
X-MICROSOFT-CDO-ALLDAYEVENT:TRUE
SUMMARY:Easter Brunch- "Hot & Ready" or "Heat & Serve" From The Bennett-Curtis House
DESCRIPTION:Easter Brunch- "Hot & Ready" or "Heat & Serve"\n\nEnjoy a variety of fresh\, made from scratch entrees and sides at home this year with our Easter Brunch To Go.\n\n \n\nCustomize your menu selections and build your own Easter Brunch Menu for you\, your family\, and your friends. Serves 4-6 guests per package.\n\n \n\nEaster Brunch- HEAT and SERVE- Comes chilled and ready to heat and serve!\n\nEaster Brunch- HOT and READY- Comes fully prepared\, hot and ready to serve!\n\n \n\nHOT & READY OPTION: Curbside pick up on Easter Day (April 4\, 2021) from 9AM to 4PM\n\nHEAT & SERVE OPTION: Curbside pick up available with 72hr notice March 26\, 2021-April 4\, 2021 from 11AM to 6PM (9AM to 4PM on Easter Day Only)\n\n \n\nOrder online or call to place your order (815) 465-2288.\n\n \n\nPlease customize your menu by making your selections for each of the categories during your check out!
X-ALT-DESC;FMTTYPE=text/html:<p style="text-align: center\;"><span style="font-size:24px">Easter Brunch- &quot\;Hot &amp\; Ready&quot\; or &quot\;Heat &amp\; Serve&quot\;</span></p>\n\n<p><strong>Enjoy a variety of fresh\, made from scratch entrees and sides at home this year with our Easter Brunch To Go.</strong></p>\n\n<p>&nbsp\;</p>\n\n<p>Customize your menu selections and build your own Easter Brunch Menu for you\, your family\, and your friends. Serves 4-6 guests per package.</p>\n\n<p>&nbsp\;</p>\n\n<p><em>Easter Brunch- HEAT and SERVE- Comes chilled and ready to heat and serve!</em></p>\n\n<p><em>Easter Brunch- HOT and READY- Comes fully prepared\, hot and ready to serve!</em></p>\n\n<p>&nbsp\;</p>\n\n<p><strong>HOT &amp\; READY OPTION:</strong>&nbsp\;Curbside pick up on Easter Day (April 4\, 2021) from 9AM to 4PM</p>\n\n<p><strong>HEAT &amp\; SERVE OPTION:</strong>&nbsp\;Curbside pick up available with 72hr notice March 26\, 2021-April 4\, 2021 from 11AM to 6PM (9AM to 4PM on Easter Day Only)</p>\n\n<p>&nbsp\;</p>\n\n<p>Order online or call to place your order (815) 465-2288.</p>\n\n<p>&nbsp\;</p>\n\n<p><em>Please customize your menu by making your selections for each of the categories during your check out!</em></p>\n
LOCATION:The Bennett-Curtis House 302 West Taylor Street Grant Park\, IL 60940
UID:e.771.3621
SEQUENCE:3
DTSTAMP:20260420T000907Z
URL:https://business.kankakeecountychamber.com/events/details/easter-brunch-hot-ready-or-heat-serve-from-the-bennett-curtis-house-04-01-2021-3621
END:VEVENT

END:VCALENDAR
