BEGIN:VCALENDAR
VERSION:2.0
PRODID:-//ChamberMaster//Event Calendar 2.0//EN
METHOD:PUBLISH
X-PUBLISHED-TTL:P3D
REFRESH-INTERVAL:P3D
CALSCALE:GREGORIAN
BEGIN:VEVENT
DTSTART;VALUE=DATE:20200404
DTEND;VALUE=DATE:20200405
TRANSP:TRANSPARENT
X-MICROSOFT-CDO-ALLDAYEVENT:TRUE
SUMMARY:Easterseals Celebration of Giving Telethon
DESCRIPTION:Tune in to Comcast Channel 4 throughout Kankakee County for the Annual Easterseals Celebration of Giving Telethon--a live broadcast with local talent\, inspiring stories and interviews of those served by Easterseals\, recognition of supporters and a phone bank to accept donations.
X-ALT-DESC;FMTTYPE=text/html:Tune in to Comcast Channel 4 throughout Kankakee County for the Annual Easterseals Celebration of Giving Telethon--a live broadcast with local talent\, inspiring stories and interviews of those served by Easterseals\, recognition of supporters and a phone bank to accept donations.
LOCATION:Jacob Henry Mansion Victorian Ballroom\, Joliet with accommodations for the live audience throughout the day.
UID:e.771.3352
SEQUENCE:3
DTSTAMP:20260422T170019Z
URL:https://business.kankakeecountychamber.com/events/details/easterseals-celebration-of-giving-telethon-3352
END:VEVENT

END:VCALENDAR
